Workbook
Name AnnualChurnPrem: Bottom_Up_Calculations!$B$11
Name AnnualChurnPro: Bottom_Up_Calculations!$B$9
Name COGSMethod: Operations!$G$455:$G$456
Name CompanyName: Operations!$D$16
Name Lead_to_Free: Bottom_Up_Calculations!$B$6
Name Lead_to_Prem: Bottom_Up_Calculations!$B$8
Name Lead_to_Pro: Bottom_Up_Calculations!$B$7
Name Leads_Start: Bottom_Up_Calculations!$B$4
Name MoM_Growth: Bottom_Up_Calculations!$B$5
Name Retention_Prem: Bottom_Up_Calculations!$B$12
Name Retention_Pro: Bottom_Up_Calculations!$B$10
Name StartDate: Operations!$D$17
Name SubHeader: Operations!$D$18

Sheet Operations
A1: Q.1. & Q.3. Introduction
C2: Introduction The model is designed to auto-populate based on the information you provide
C3: Some cells are required and others are optional
C4: Use the colour guide to determine which inputs are needed
C5: To improve navigation and data comparison, this workbook has been consolidated from multiple tabs into four primary sheets (Operations>Statements>Valuation>Cap Table). This layout eliminates the need to hunt through hidden or overflowing tabs, allowing you to view and compare different operational statements side-by-side more efficiently.
C6: Key | D6: Example | E6: Meaning
C7: Green Fill | E7: Required numerical inputs
C9: Yellow Fill | E9: Optional numerical or text inputs
C11: No Fill | E11: The user should not enter any information in empty cells. All data in cells with no colour fill will be calculated automatically for the user
C13: To simplify your analysis, use the grouping function on the left to hide unnecessary sections. By collapsing specific data sets, you can bring any two areas together for a clean, side-by-side comparison on a single screen. Navigation guide: 1. To expand a specific section: Click the [+] icon in the left-hand (or on the top) margin. For example, to view the Top-Down model, click the [+] next to Row 68 (left). 2. To view all data: Click the [2] button in the top-left corner of the sheet to expand every section simultaneously. 3. To compare specific data: Click the [-] icon to hide sections you don't need, allowing you to align and compare distant rows easily.
A16: Company Information | C16: Company Name: | D16: Sustainsphere
C17: Start Date: | D17: 46023
C18: Currency, Units: | D18: EUR
A19: Revenues | B19: Top-Down
C21: Top-Down Revenue Projection | S21: =CompanyName &" Revenue Forecast" -> Sustainsphere Revenue Forecast
C22: ="Revenues ("&SubHeader&")" -> Revenues (EUR)
S23: First two years - Quarterly
C24: Market Size and Sales Assumptions
D25: Europe | E25: Notes on assumptions | H25: USA & Canada | I25: Notes on assumptions | L25: Market 3 | M25: Notes on assumptions
C26: Year of Market Sizing | D26: 2025 | H26: 2025
C27: Overall market size | D27: 120000000 | E27: Approx. 12% - Global CSR software market ≈ USD 1.0 billion (≈ 2024–2025) | H27: 380000000 | I27: Approx. 38% - Global CSR software market ≈ USD 1.0 billion (≈ 2024–2025)
C28: Target segment share | D28: 0.035 | E28: SOM | H28: 0.035
C29: Target market size | D29: =D27*D28 -> 4200000 | H29: =H27*H28 -> 13300000
C30: Market Growth Rate | D30: 0.12 | E30: Gaining market share would take time | H30: 0.12 | I30: Gaining market share would take time
C33: Market Size (prior to margin for retailers & distributors)
D34: Market Size (years 1 and 2) | M34: Market Size (years 3 to 6)
D35: Year 1 | H35: Year 2 | M35: Year 3 | N35: Year 4 | O35: Year 5 | P35: Year 6
D36: =StartDate -> 46023 | E36: =EDATE(D36,3) -> 46113 | F36: =EDATE(E36,3) -> 46204 | G36: =EDATE(F36,3) -> 46296 | H36: =EDATE(G36,3) -> 46388 | I36: =EDATE(H36,3) -> 46478 | J36: =EDATE(I36,3) -> 46569 | K36: =EDATE(J36,3) -> 46661 | M36: =EDATE(K36,3) -> 46753 | N36: =EDATE(M36,12) -> 47119 | O36: =EDATE(N36,12) -> 47484 | P36: =EDATE(O36,12) -> 47849
C37: =$D$25 -> Europe | D37: =$D$29*((1+$D$30)^(YEAR(D61)-$D$26))/4 -> 1176000 | E37: =$D$29*((1+$D$30)^(YEAR(E61)-$D$26))/4 -> 1176000 | F37: =$D$29*((1+$D$30)^(YEAR(F61)-$D$26))/4 -> 1176000 | G37: =$D$29*((1+$D$30)^(YEAR(G61)-$D$26))/4 -> 1176000 | H37: =$D$29*((1+$D$30)^(YEAR(H61)-$D$26))/4 -> 1317120 | I37: =$D$29*((1+$D$30)^(YEAR(I61)-$D$26))/4 -> 1317120 | J37: =$D$29*((1+$D$30)^(YEAR(J61)-$D$26))/4 -> 1317120 | K37: =$D$29*((1+$D$30)^(YEAR(K61)-$D$26))/4 -> 1317120 | M37: =$D$29*((1+$D$30)^(YEAR(M61)-$D$26)) -> 5900697.6 | N37: =$D$29*((1+$D$30)^(YEAR(N61)-$D$26)) -> 6608781.3 | O37: =$D$29*((1+$D$30)^(YEAR(O61)-$D$26)) -> 7401835.1 | P37: =$D$29*((1+$D$30)^(YEAR(P61)-$D$26)) -> 8290055.3
C38: =$H$25 -> USA & Canada | D38: =$H$29*((1+$H$30)^(YEAR(D61)-$H$26))/4 -> 3724000 | E38: =$H$29*((1+$H$30)^(YEAR(E61)-$H$26))/4 -> 3724000 | F38: =$H$29*((1+$H$30)^(YEAR(F61)-$H$26))/4 -> 3724000 | G38: =$H$29*((1+$H$30)^(YEAR(G61)-$H$26))/4 -> 3724000 | H38: =$H$29*((1+$H$30)^(YEAR(H61)-$H$26))/4 -> 4170880 | I38: =$H$29*((1+$H$30)^(YEAR(I61)-$H$26))/4 -> 4170880 | J38: =$H$29*((1+$H$30)^(YEAR(J61)-$H$26))/4 -> 4170880 | K38: =$H$29*((1+$H$30)^(YEAR(K61)-$H$26))/4 -> 4170880 | M38: =$H$29*((1+$H$30)^(YEAR(M61)-$H$26)) -> 18685542 | N38: =$H$29*((1+$H$30)^(YEAR(N61)-$H$26)) -> 20927807 | O38: =$H$29*((1+$H$30)^(YEAR(O61)-$H$26)) -> 23439144 | P38: =$H$29*((1+$H$30)^(YEAR(P61)-$H$26)) -> 26251842
C39: =$L$25 -> Market 3 | D39: =$L$29*((1+$L$30)^(YEAR(D61)-$L$26))/4 -> 0 | E39: =$L$29*((1+$L$30)^(YEAR(E61)-$L$26))/4 -> 0 | F39: =$L$29*((1+$L$30)^(YEAR(F61)-$L$26))/4 -> 0 | G39: =$L$29*((1+$L$30)^(YEAR(G61)-$L$26))/4 -> 0 | H39: =$L$29*((1+$L$30)^(YEAR(H61)-$L$26))/4 -> 0 | I39: =$L$29*((1+$L$30)^(YEAR(I61)-$L$26))/4 -> 0 | J39: =$L$29*((1+$L$30)^(YEAR(J61)-$L$26))/4 -> 0 | K39: =$L$29*((1+$L$30)^(YEAR(K61)-$L$26))/4 -> 0 | M39: =$L$29*((1+$L$30)^(YEAR(M61)-$L$26)) -> 0 | N39: =$L$29*((1+$L$30)^(YEAR(N61)-$L$26)) -> 0 | O39: =$L$29*((1+$L$30)^(YEAR(O61)-$L$26)) -> 0 | P39: =$L$29*((1+$L$30)^(YEAR(P61)-$L$26)) -> 0
S40: Full Forecast - Annual (6 years)
C41: Assumption: Third Party Margins
D42: Third Party Margins (years 1 and 2) | M42: Third Party Margins (years 3 to 6) | T42: Annual Projections
D43: Year 1 | H43: Year 2 | M43: Year 3 | N43: Year 4 | O43: Year 5 | P43: Year 6 | T43: Year 1 | U43: Year 2 | V43: Year 3 | W43: Year 4 | X43: Year 5 | Y43: Year 6
D44: =StartDate -> 46023 | E44: =EDATE(D44,3) -> 46113 | F44: =EDATE(E44,3) -> 46204 | G44: =EDATE(F44,3) -> 46296 | H44: =EDATE(G44,3) -> 46388 | I44: =EDATE(H44,3) -> 46478 | J44: =EDATE(I44,3) -> 46569 | K44: =EDATE(J44,3) -> 46661 | M44: =EDATE(K44,3) -> 46753 | N44: =EDATE(M44,12) -> 47119 | O44: =EDATE(N44,12) -> 47484 | P44: =EDATE(O44,12) -> 47849 | T44: =D61 -> 46023 | U44: =H61 -> 46388 | V44: =M61 -> 46753 | W44: =EDATE(V44,12) -> 47119 | X44: =EDATE(W44,12) -> 47484 | Y44: =EDATE(X44,12) -> 47849
C45: =$D$25 -> Europe | H45: 0 | I45: 0 | J45: 0 | K45: 0 | M45: 0 | N45: 0 | O45: 0 | P45: 0 | S45: =C62 -> Europe | T45: =SUM(D62:G62) -> 0 | U45: =SUM(H62:K62) -> 158054.4 | V45: =M62 -> 295034.88 | W45: =N62 -> 660878.13 | X45: =O62 -> 888220.21 | Y45: =P62 -> 1243508.3
C46: =$H$25 -> USA & Canada | M46: 0 | N46: 0 | O46: 0 | P46: 0 | S46: =C63 -> USA & Canada | T46: =SUM(D63:G63) -> 0 | U46: =SUM(H63:K63) -> 0 | V46: =M63 -> 0 | W46: =N63 -> 418556.15 | X46: =O63 -> 1171957.2 | Y46: =P63 -> 1837628.9
C47: =$L$25 -> Market 3 | S47: =C64 -> Market 3 | T47: =SUM(D64:G64) -> 0 | U47: =SUM(H64:K64) -> 0 | V47: =M64 -> 0 | W47: =N64 -> 0 | X47: =O64 -> 0 | Y47: =P64 -> 0
T48: =SUM(T45:T47) -> 0 | U48: =SUM(U45:U47) -> 158054.4 | V48: =SUM(V45:V47) -> 295034.88 | W48: =SUM(W45:W47) -> 1079434.3 | X48: =SUM(X45:X47) -> 2060177.4 | Y48: =SUM(Y45:Y47) -> 3081137.2
...

Sheet Bottom_Up_Calculations
A1: Q.1. Bottom Up Sales Funnel and Calculations
A2: Inputs | B2: Assumptions
A3: Starting Month for the sales | B3: 46388 | C3: In 2026, only production and pilot customers. No sales
A4: Leads per month | B4: 100 | C4: By all the means like online marketing (google, linkedin, meta), conferences, one to one meetings etc.
A5: Month-over-month growth of leads | B5: 0.05
A6: Lead to Free subscription | B6: 0.3
A7: Lead to Professional subscription | B7: 0.06
A8: Lead to Premium subscription | B8: 0.02
A9: Annual churn Professional (% that do not renew yearly) | B9: 0.18
A10: Retention Professional | B10: =1-B9 -> 0.82
A11: Annual churn Premium | B11: 0.12
A12: Retention Premium | B12: =1-B11 -> 0.88
A13: Annual churn for Free tier taken as zero
A14: Calculation Engine cum Sales Funnel Table (Seasonality is taken as 1.0 throughout the sales funnel)
A15: Month | B15: Leads | C15: New Free | D15: New Pro | E15: New Prem | F15: Renew Pro | G15: Renew Prem | H15: Units Sold Pro | I15: Unit Sold Prem | J15: Active Free | K15: Active Pro | L15: Active Prem
A16: =B3 -> 46388 | B16: =Leads_Start -> 100 | C16: =B16*Lead_to_Free -> 30 | D16: =B16*Lead_to_Pro -> 6 | E16: =B16*Lead_to_Prem -> 2 | F16: =IFERROR( _xlfn.XLOOKUP(EDATE(A16,-12), $A:$A, $D:$D, 0) * Retention_Pro, 0) -> 0 | G16: =IFERROR( _xlfn.XLOOKUP(EDATE(A16,-12), $A:$A, $E:$E, 0) * Retention_Prem, 0) -> 0 | H16: =D16+F16 -> 6 | I16: =E16+G16 -> 2 | J16: =C16 -> 30 | K16: =D16 -> 6 | L16: =E16 -> 2
A17: =EDATE(A16,1) -> 46419 | B17: =B16*(1+MoM_Growth) -> 105 | C17: =B17*Lead_to_Free -> 31.5 | D17: =B17*Lead_to_Pro -> 6.3 | E17: =B17*Lead_to_Prem -> 2.1 | F17: =IFERROR( _xlfn.XLOOKUP(EDATE(A17,-12), $A:$A, $D:$D, 0) * Retention_Pro, 0) -> 0 | G17: =IFERROR( _xlfn.XLOOKUP(EDATE(A17,-12), $A:$A, $E:$E, 0) * Retention_Prem, 0) -> 0 | H17: =D17+F17 -> 6.3 | I17: =E17+G17 -> 2.1 | J17: =C17+J16 -> 61.5 | K17: =K16+D17-IFERROR(_xlfn.XLOOKUP(EDATE(A17,-12),$A:$A,$D:$D,0)-F17, 0) -> 12.3 | L17: =L16 + E17 - IFERROR(_xlfn.XLOOKUP(EDATE(A17,-12),$A:$A,$E:$E,0) - G17, 0) -> 4.1
A18: =EDATE(A17,1) -> 46447 | B18: =B17*(1+MoM_Growth) -> 110.25 | C18: =B18*Lead_to_Free -> 33.075 | D18: =B18*Lead_to_Pro -> 6.615 | E18: =B18*Lead_to_Prem -> 2.205 | F18: =IFERROR( _xlfn.XLOOKUP(EDATE(A18,-12), $A:$A, $D:$D, 0) * Retention_Pro, 0) -> 0 | G18: =IFERROR( _xlfn.XLOOKUP(EDATE(A18,-12), $A:$A, $E:$E, 0) * Retention_Prem, 0) -> 0 | H18: =D18+F18 -> 6.615 | I18: =E18+G18 -> 2.205 | J18: =C18+J17 -> 94.575 | K18: =K17+D18-IFERROR(_xlfn.XLOOKUP(EDATE(A18,-12),$A:$A,$D:$D,0)-F18, 0) -> 18.915 | L18: =L17 + E18 - IFERROR(_xlfn.XLOOKUP(EDATE(A18,-12),$A:$A,$E:$E,0) - G18, 0) -> 6.305
A19: =EDATE(A18,1) -> 46478 | B19: =B18*(1+MoM_Growth) -> 115.7625 | C19: =B19*Lead_to_Free -> 34.72875 | D19: =B19*Lead_to_Pro -> 6.94575 | E19: =B19*Lead_to_Prem -> 2.31525 | F19: =IFERROR( _xlfn.XLOOKUP(EDATE(A19,-12), $A:$A, $D:$D, 0) * Retention_Pro, 0) -> 0 | G19: =IFERROR( _xlfn.XLOOKUP(EDATE(A19,-12), $A:$A, $E:$E, 0) * Retention_Prem, 0) -> 0 | H19: =D19+F19 -> 6.94575 | I19: =E19+G19 -> 2.31525 | J19: =C19+J18 -> 129.30375 | K19: =K18+D19-IFERROR(_xlfn.XLOOKUP(EDATE(A19,-12),$A:$A,$D:$D,0)-F19, 0) -> 25.86075 | L19: =L18 + E19 - IFERROR(_xlfn.XLOOKUP(EDATE(A19,-12),$A:$A,$E:$E,0) - G19, 0) -> 8.62025
A20: =EDATE(A19,1) -> 46508 | B20: =B19*(1+MoM_Growth) -> 121.55063 | C20: =B20*Lead_to_Free -> 36.465187 | D20: =B20*Lead_to_Pro -> 7.2930375 | E20: =B20*Lead_to_Prem -> 2.4310125 | F20: =IFERROR( _xlfn.XLOOKUP(EDATE(A20,-12), $A:$A, $D:$D, 0) * Retention_Pro, 0) -> 0 | G20: =IFERROR( _xlfn.XLOOKUP(EDATE(A20,-12), $A:$A, $E:$E, 0) * Retention_Prem, 0) -> 0 | H20: =D20+F20 -> 7.2930375 | I20: =E20+G20 -> 2.4310125 | J20: =C20+J19 -> 165.76894 | K20: =K19+D20-IFERROR(_xlfn.XLOOKUP(EDATE(A20,-12),$A:$A,$D:$D,0)-F20, 0) -> 33.153787 | L20: =L19 + E20 - IFERROR(_xlfn.XLOOKUP(EDATE(A20,-12),$A:$A,$E:$E,0) - G20, 0) -> 11.051262
A21: =EDATE(A20,1) -> 46539 | B21: =B20*(1+MoM_Growth) -> 127.62816 | C21: =B21*Lead_to_Free -> 38.288447 | D21: =B21*Lead_to_Pro -> 7.6576894 | E21: =B21*Lead_to_Prem -> 2.5525631 | F21: =IFERROR( _xlfn.XLOOKUP(EDATE(A21,-12), $A:$A, $D:$D, 0) * Retention_Pro, 0) -> 0 | G21: =IFERROR( _xlfn.XLOOKUP(EDATE(A21,-12), $A:$A, $E:$E, 0) * Retention_Prem, 0) -> 0 | H21: =D21+F21 -> 7.6576894 | I21: =E21+G21 -> 2.5525631 | J21: =C21+J20 -> 204.05738 | K21: =K20+D21-IFERROR(_xlfn.XLOOKUP(EDATE(A21,-12),$A:$A,$D:$D,0)-F21, 0) -> 40.811477 | L21: =L20 + E21 - IFERROR(_xlfn.XLOOKUP(EDATE(A21,-12),$A:$A,$E:$E,0) - G21, 0) -> 13.603826
A22: =EDATE(A21,1) -> 46569 | B22: =B21*(1+MoM_Growth) -> 134.00956 | C22: =B22*Lead_to_Free -> 40.202869 | D22: =B22*Lead_to_Pro -> 8.0405738 | E22: =B22*Lead_to_Prem -> 2.6801913 | F22: =IFERROR( _xlfn.XLOOKUP(EDATE(A22,-12), $A:$A, $D:$D, 0) * Retention_Pro, 0) -> 0 | G22: =IFERROR( _xlfn.XLOOKUP(EDATE(A22,-12), $A:$A, $E:$E, 0) * Retention_Prem, 0) -> 0 | H22: =D22+F22 -> 8.0405738 | I22: =E22+G22 -> 2.6801913 | J22: =C22+J21 -> 244.26025 | K22: =K21+D22-IFERROR(_xlfn.XLOOKUP(EDATE(A22,-12),$A:$A,$D:$D,0)-F22, 0) -> 48.852051 | L22: =L21 + E22 - IFERROR(_xlfn.XLOOKUP(EDATE(A22,-12),$A:$A,$E:$E,0) - G22, 0) -> 16.284017
A23: =EDATE(A22,1) -> 46600 | B23: =B22*(1+MoM_Growth) -> 140.71004 | C23: =B23*Lead_to_Free -> 42.213013 | D23: =B23*Lead_to_Pro -> 8.4426025 | E23: =B23*Lead_to_Prem -> 2.8142008 | F23: =IFERROR( _xlfn.XLOOKUP(EDATE(A23,-12), $A:$A, $D:$D, 0) * Retention_Pro, 0) -> 0 | G23: =IFERROR( _xlfn.XLOOKUP(EDATE(A23,-12), $A:$A, $E:$E, 0) * Retention_Prem, 0) -> 0 | H23: =D23+F23 -> 8.4426025 | I23: =E23+G23 -> 2.8142008 | J23: =C23+J22 -> 286.47327 | K23: =K22+D23-IFERROR(_xlfn.XLOOKUP(EDATE(A23,-12),$A:$A,$D:$D,0)-F23, 0) -> 57.294653 | L23: =L22 + E23 - IFERROR(_xlfn.XLOOKUP(EDATE(A23,-12),$A:$A,$E:$E,0) - G23, 0) -> 19.098218
A24: =EDATE(A23,1) -> 46631 | B24: =B23*(1+MoM_Growth) -> 147.74554 | C24: =B24*Lead_to_Free -> 44.323663 | D24: =B24*Lead_to_Pro -> 8.8647327 | E24: =B24*Lead_to_Prem -> 2.9549109 | F24: =IFERROR( _xlfn.XLOOKUP(EDATE(A24,-12), $A:$A, $D:$D, 0) * Retention_Pro, 0) -> 0 | G24: =IFERROR( _xlfn.XLOOKUP(EDATE(A24,-12), $A:$A, $E:$E, 0) * Retention_Prem, 0) -> 0 | H24: =D24+F24 -> 8.8647327 | I24: =E24+G24 -> 2.9549109 | J24: =C24+J23 -> 330.79693 | K24: =K23+D24-IFERROR(_xlfn.XLOOKUP(EDATE(A24,-12),$A:$A,$D:$D,0)-F24, 0) -> 66.159386 | L24: =L23 + E24 - IFERROR(_xlfn.XLOOKUP(EDATE(A24,-12),$A:$A,$E:$E,0) - G24, 0) -> 22.053129
A25: =EDATE(A24,1) -> 46661 | B25: =B24*(1+MoM_Growth) -> 155.13282 | C25: =B25*Lead_to_Free -> 46.539846 | D25: =B25*Lead_to_Pro -> 9.3079693 | E25: =B25*Lead_to_Prem -> 3.1026564 | F25: =IFERROR( _xlfn.XLOOKUP(EDATE(A25,-12), $A:$A, $D:$D, 0) * Retention_Pro, 0) -> 0 | G25: =IFERROR( _xlfn.XLOOKUP(EDATE(A25,-12), $A:$A, $E:$E, 0) * Retention_Prem, 0) -> 0 | H25: =D25+F25 -> 9.3079693 | I25: =E25+G25 -> 3.1026564 | J25: =C25+J24 -> 377.33678 | K25: =K24+D25-IFERROR(_xlfn.XLOOKUP(EDATE(A25,-12),$A:$A,$D:$D,0)-F25, 0) -> 75.467355 | L25: =L24 + E25 - IFERROR(_xlfn.XLOOKUP(EDATE(A25,-12),$A:$A,$E:$E,0) - G25, 0) -> 25.155785
A26: =EDATE(A25,1) -> 46692 | B26: =B25*(1+MoM_Growth) -> 162.88946 | C26: =B26*Lead_to_Free -> 48.866839 | D26: =B26*Lead_to_Pro -> 9.7733678 | E26: =B26*Lead_to_Prem -> 3.2577893 | F26: =IFERROR( _xlfn.XLOOKUP(EDATE(A26,-12), $A:$A, $D:$D, 0) * Retention_Pro, 0) -> 0 | G26: =IFERROR( _xlfn.XLOOKUP(EDATE(A26,-12), $A:$A, $E:$E, 0) * Retention_Prem, 0) -> 0 | H26: =D26+F26 -> 9.7733678 | I26: =E26+G26 -> 3.2577893 | J26: =C26+J25 -> 426.20361 | K26: =K25+D26-IFERROR(_xlfn.XLOOKUP(EDATE(A26,-12),$A:$A,$D:$D,0)-F26, 0) -> 85.240723 | L26: =L25 + E26 - IFERROR(_xlfn.XLOOKUP(EDATE(A26,-12),$A:$A,$E:$E,0) - G26, 0) -> 28.413574
A27: =EDATE(A26,1) -> 46722 | B27: =B26*(1+MoM_Growth) -> 171.03394 | C27: =B27*Lead_to_Free -> 51.310181 | D27: =B27*Lead_to_Pro -> 10.262036 | E27: =B27*Lead_to_Prem -> 3.4206787 | F27: =IFERROR( _xlfn.XLOOKUP(EDATE(A27,-12), $A:$A, $D:$D, 0) * Retention_Pro, 0) -> 0 | G27: =IFERROR( _xlfn.XLOOKUP(EDATE(A27,-12), $A:$A, $E:$E, 0) * Retention_Prem, 0) -> 0 | H27: =D27+F27 -> 10.262036 | I27: =E27+G27 -> 3.4206787 | J27: =C27+J26 -> 477.5138 | K27: =K26+D27-IFERROR(_xlfn.XLOOKUP(EDATE(A27,-12),$A:$A,$D:$D,0)-F27, 0) -> 95.502759 | L27: =L26 + E27 - IFERROR(_xlfn.XLOOKUP(EDATE(A27,-12),$A:$A,$E:$E,0) - G27, 0) -> 31.834253
A28: =EDATE(A27,1) -> 46753 | B28: =B27*(1+MoM_Growth) -> 179.58563 | C28: =B28*Lead_to_Free -> 53.87569 | D28: =B28*Lead_to_Pro -> 10.775138 | E28: =B28*Lead_to_Prem -> 3.5917127 | F28: =IFERROR( _xlfn.XLOOKUP(EDATE(A28,-12), $A:$A, $D:$D, 0) * Retention_Pro, 0) -> 4.92 | G28: =IFERROR( _xlfn.XLOOKUP(EDATE(A28,-12), $A:$A, $E:$E, 0) * Retention_Prem, 0) -> 1.76 | H28: =D28+F28 -> 15.695138 | I28: =E28+G28 -> 5.3517127 | J28: =C28+J27 -> 531.38949 | K28: =K27+D28-IFERROR(_xlfn.XLOOKUP(EDATE(A28,-12),$A:$A,$D:$D,0)-F28, 0) -> 105.1979 | L28: =L27 + E28 - IFERROR(_xlfn.XLOOKUP(EDATE(A28,-12),$A:$A,$E:$E,0) - G28, 0) -> 35.185966
... A75: =EDATE(A74,1) -> 48183 | B75: =B74*(1+MoM_Growth) -> 1778.9701 | C75: =B75*Lead_to_Free -> 533.69103 | D75: =B75*Lead_to_Pro -> 106.73821 | E75: =B75*Lead_to_Prem -> 35.579402 | F75: =IFERROR( _xlfn.XLOOKUP(EDATE(A75,-12), $A:$A, $D:$D, 0) * Retention_Pro, 0) -> 48.737378 | G75: =IFERROR( _xlfn.XLOOKUP(EDATE(A75,-12), $A:$A, $E:$E, 0) * Retention_Prem, 0) -> 17.434509 | H75: =D75+F75 -> 155.47558 | I75: =E75+G75 -> 53.013911 | J75: =C75+J74 -> 10607.512 | K75: =K74+D75-IFERROR(_xlfn.XLOOKUP(EDATE(A75,-12),$A:$A,$D:$D,0)-F75, 0) -> 1918.4349 | L75: =L74 + E75 - IFERROR(_xlfn.XLOOKUP(EDATE(A75,-12),$A:$A,$E:$E,0) - G75, 0) -> 662.04134

Sheet Statements
A1: Q.1. & Q.3. Statements
A2: 1. Cash Flow Statement
B3: Cash Flow Statement | R3: =CompanyName &" Annual Cash Flow Statement" -> Sustainsphere Annual Cash Flow Statement | AC3: =CompanyName &" Projected Cashflow" -> Sustainsphere Projected Cashflow
B4: ="All Values in "&SubHeader -> All Values in EUR
B5: Assumption | C5: Bottom up Revenue and bottom up COGS values taken | AC5: Cash Flows
R6: Full Forecast - Annual (6 years)
B7: Cash Flow Statement Projection
C8: Quarterly Cash Flow (years 1 and 2) | L8: Annual Cash Flow (years 3 to 6) | T8: Annual Projections
C9: Year 1 | G9: Year 2 | L9: Year 3 | M9: Year 4 | N9: Year 5 | O9: Year 6 | T9: Year 1 | U9: Year 2 | V9: Year 3 | W9: Year 4 | X9: Year 5 | Y9: Year 6
B10: Starting date | C10: =StartDate -> 46023 | D10: =EDATE(C10,3) -> 46113 | E10: =EDATE(D10,3) -> 46204 | F10: =EDATE(E10,3) -> 46296 | G10: =EDATE(F10,3) -> 46388 | H10: =EDATE(G10,3) -> 46478 | I10: =EDATE(H10,3) -> 46569 | J10: =EDATE(I10,3) -> 46661 | L10: =EDATE(J10,3) -> 46753 | M10: =EDATE(L10,12) -> 47119 | N10: =EDATE(M10,12) -> 47484 | O10: =EDATE(N10,12) -> 47849 | R10: Starting date | T10: =C10 -> 46023 | U10: =G10 -> 46388 | V10: =L10 -> 46753 | W10: =M10 -> 47119 | X10: =N10 -> 47484 | Y10: =O10 -> 47849
B12: Beginning Cash Balance | C12: 0 | D12: =C38 -> 87250 | E12: =D38 -> 74500 | F12: =E38 -> 46437.5 | G12: =F38 -> 18375 | H12: =G38 -> 269044.76 | I12: =H38 -> 241319.5 | J12: =I38 -> 208223.61 | L12: =J38 -> 155625.51 | M12: =L38 -> 441159.68 | N12: =M38 -> 910506.64 | O12: =N38 -> 1886508.4 | R12: =B12 -> Beginning Cash Balance | T12: =C12 -> 0 | U12: =G12 -> 18375 | V12: =L12 -> 155625.51 | W12: =M12 -> 441159.68 | X12: =N12 -> 910506.64 | Y12: =O12 -> 1886508.4
B14: Operating | R14: =B14 -> Operating
B15: Revenues | C15: =Operations!D156 -> 0 | D15: =Operations!E156 -> 0 | E15: =Operations!F156 -> 0 | F15: =Operations!G156 -> 0 | G15: =Operations!H156 -> 43701.216 | H15: =Operations!I156 -> 50589.62 | I15: =Operations!J156 -> 58563.809 | J15: =Operations!K156 -> 67794.929 | L15: =Operations!M156 -> 581722.15 | M15: =Operations!N156 -> 1044689.4 | N15: =Operations!O156 -> 1876112.1 | O15: =Operations!P156 -> 3369227.7 | R15: =B15 -> Revenues | T15: =SUM(C15:F15) -> 0 | U15: =SUM(G15:J15) -> 220649.57 | V15: =L15 -> 581722.15 | W15: =M15 -> 1044689.4 | X15: =N15 -> 1876112.1 | Y15: =O15 -> 3369227.7
B16: COGS | C16: =Operations!D220*-1 -> 0 | D16: =Operations!E220*-1 -> 0 | E16: =Operations!F220*-1 -> 0 | F16: =Operations!G220*-1 -> 0 | G16: =Operations!H220*-1 -> -2021.2962 | H16: =Operations!I220*-1 -> -2339.9031 | I16: =Operations!J220*-1 -> -2708.7303 | J16: =Operations!K220*-1 -> -3135.6939 | L16: =Operations!M220*-1 -> -23670.021 | M16: =Operations!N220*-1 -> -44208.276 | N16: =Operations!O220*-1 -> -82567.38 | O16: =Operations!P220*-1 -> -154210.32 | R16: =B16 -> COGS | T16: =SUM(C16:F16) -> 0 | U16: =SUM(G16:J16) -> -10205.623 | V16: =L16 -> -23670.021 | W16: =M16 -> -44208.276 | X16: =N16 -> -82567.38 | Y16: =O16 -> -154210.32
B17: Operating Expenses | C17: =Operations!D462*-1 -> -12750 | D17: =Operations!E462*-1 -> -12750 | E17: =Operations!F462*-1 -> -28062.5 | F17: =Operations!G462*-1 -> -28062.5 | G17: =Operations!H462*-1 -> -57442.5 | H17: =Operations!I462*-1 -> -75255 | I17: =Operations!J462*-1 -> -88117.5 | J17: =Operations!K462*-1 -> -116292.5 | L17: =Operations!M462*-1 -> -664314.8 | M17: =Operations!N462*-1 -> -670365.48 | N17: =Operations!O462*-1 -> -738415.82 | O17: =Operations!P462*-1 -> -746074.41 | R17: =B17 -> Operating Expenses | T17: =SUM(C17:F17) -> -81625 | U17: =SUM(G17:J17) -> -337107.5 | V17: =L17 -> -664314.8 | W17: =M17 -> -670365.48 | X17: =N17 -> -738415.82 | Y17: =O17 -> -746074.41
B18: =Operations!C537 -> Change in Net Working Capital | C18: =Operations!D537 -> 0 | D18: =Operations!E537 -> 0 | E18: =Operations!F537 -> 0 | F18: =Operations!G537 -> 0 | G18: =Operations!H537 -> -4567.6624 | H18: =Operations!I537 -> -719.97779 | I18: =Operations!J537 -> -833.46429 | J18: =Operations!K537 -> -964.8391 | L18: =Operations!M537 -> -8203.1559 | M18: =Operations!N537 -> -12121.342 | N18: =Operations!O537 -> -21727.769 | O18: =Operations!P537 -> -38944.458 | R18: =B18 -> Change in Net Working Capital | T18: =SUM(C18:F18) -> 0 | U18: =SUM(G18:J18) -> -7085.9436 | V18: =L18 -> -8203.1559 | W18: =M18 -> -12121.342 | X18: =N18 -> -21727.769 | Y18: =O18 -> -38944.458
B19: Taxes | C19: =C100 -> 0 | D19: =D100 -> 0 | E19: =E100 -> 0 | F19: =F100 -> 0 | G19: =G100 -> 0 | H19: =H100 -> 0 | I19: =I100 -> 0 | J19: =J100 -> 0 | L19: =L100 -> 0 | M19: =M100 -> -48647.348 | N19: =N100 -> -157399.33 | O19: =O100 -> -369471.45 | R19: =B19 -> Taxes | T19: =SUM(C19:F19) -> 0 | U19: =SUM(G19:J19) -> 0 | V19: =L19 -> 0 | W19: =M19 -> -48647.348 | X19: =N19 -> -157399.33 | Y19: =O19 -> -369471.45
B20: Total Operating | C20: =SUM(C15:C19) -> -12750 | D20: =SUM(D15:D19) -> -12750 | E20: =SUM(E15:E19) -> -28062.5 | F20: =SUM(F15:F19) -> -28062.5 | G20: =SUM(G15:G19) -> -20330.243 | H20: =SUM(H15:H19) -> -27725.261 | I20: =SUM(I15:I19) -> -33095.886 | J20: =SUM(J15:J19) -> -52598.104 | L20: =SUM(L15:L19) -> -114465.82 | M20: =SUM(M15:M19) -> 269346.96 | N20: =SUM(N15:N19) -> 876001.78 | O20: =SUM(O15:O19) -> 2060527.1 | R20: =B20 -> Total Operating | T20: =SUM(C20:F20) -> -81625 | U20: =SUM(G20:J20) -> -133749.49 | V20: =L20 -> -114465.82 | W20: =M20 -> 269346.96 | X20: =N20 -> 876001.78 | Y20: =O20 -> 2060527.1
B22: Investing | R22: =B22 -> Investing | AC22: Total Cash Flow - Annual Forecast (6 years)
B23: Capital Expenses | C23: =Operations!D430*-1 -> 0 | D23: =Operations!E430*-1 -> 0 | E23: =Operations!F430*-1 -> 0 | F23: =Operations!G430*-1 -> 0 | G23: =Operations!H430*-1 -> -29000 | H23: =Operations!I430*-1 -> 0 | I23: =Operations!J430*-1 -> 0 | J23: =Operations!K430*-1 -> 0 | L23: =Operations!M430*-1 -> 0 | M23: =Operations!N430*-1 -> 0 | N23: =Operations!O430*-1 -> 0 | O23: =Operations!P430*-1 -> 0 | R23: =B23 -> Capital Expenses | T23: =SUM(C23:F23) -> 0 | U23: =SUM(G23:J23) -> -29000 | V23: =L23 -> 0 | W23: =M23 -> 0 | X23: =N23 -> 0 | Y23: =O23 -> 0
B24: Other Investments | C24: 0 | D24: 0 | E24: 0 | F24: 0 | G24: 0 | H24: 0 | I24: 0 | J24: 0 | L24: 0 | M24: 0 | N24: 0 | O24: 0 | R24: =B24 -> Other Investments | T24: =SUM(C24:F24) -> 0 | U24: =SUM(G24:J24) -> 0 | V24: =L24 -> 0 | W24: =M24 -> 0 | X24: =N24 -> 0 | Y24: =O24 -> 0 | AD24: Annual Projections
B25: Total Investing | C25: =SUM(C23:C24) -> 0 | D25: =SUM(D23:D24) -> 0 | E25: =SUM(E23:E24) -> 0 | F25: =SUM(F23:F24) -> 0 | G25: =SUM(G23:G24) -> -29000 | H25: =SUM(H23:H24) -> 0 | I25: =SUM(I23:I24) -> 0 | J25: =SUM(J23:J24) -> 0 | L25: =SUM(L23:L24) -> 0 | M25: =SUM(M23:M24) -> 0 | N25: =SUM(N23:N24) -> 0 | O25: =SUM(O23:O24) -> 0 | R25: =B25 -> Total Investing | T25: =SUM(C25:F25) -> 0 | U25: =SUM(G25:J25) -> -29000 | V25: =L25 -> 0 | W25: =M25 -> 0 | X25: =N25 -> 0 | Y25: =O25 -> 0 | AD25: Year 1 | AE25: Year 2 | AF25: Year 3 | AG25: Year 4 | AH25: Year 5 | AI25: Year 6
B26: Cash flow before financing | R26: =B26 -> Cash flow before financing | AD26: =C10 -> 46023 | AE26: =G10 -> 46388 | AF26: =L10 -> 46753 | AG26: =M10 -> 47119 | AH26: =N10 -> 47484 | AI26: =O10 -> 47849
B27: Cash flows | C27: =C20+C25 -> -12750 | D27: =D20+D25 -> -12750 | E27: =E20+E25 -> -28062.5 | F27: =F20+F25 -> -28062.5 | G27: =G20+G25 -> -49330.243 | H27: =H20+H25 -> -27725.261 | I27: =I20+I25 -> -33095.886 | J27: =J20+J25 -> -52598.104 | L27: =L20+L25 -> -114465.82 | M27: =M20+M25 -> 269346.96 | N27: =N20+N25 -> 876001.78 | O27: =O25+O20 -> 2060527.1 | R27: =B27 -> Cash flows | T27: =T20+T25 -> -81625 | U27: =U20+U25 -> -162749.49 | V27: =V20+V25 -> -114465.82 | W27: =W20+W25 -> 269346.96 | X27: =X20+X25 -> 876001.78 | Y27: =Y20+Y25 -> 2060527.1 | AC27: =R36 -> Cash Flow | AD27: =T36 -> 18375 | AE27: =U36 -> 137250.51 | AF27: =V36 -> 285534.18 | AG27: =W36 -> 469346.96 | AH27: =X36 -> 976001.78 | AI27: =Y36 -> 2060527.1
B28: Ending cash balance | C28: =C27 -> -12750 | D28: =C28+D27 -> -25500 | E28: =D28+E27 -> -53562.5 | F28: =E28+F27 -> -81625 | G28: =F28+G27 -> -130955.24 | H28: =G28+H27 -> -158680.5 | I28: =H28+I27 -> -191776.39 | J28: =I28+J27 -> -244374.49 | L28: =L27 -> -114465.82 | M28: =L28+M27 -> 154881.14 | N28: =M28+N27 -> 1030882.9 | O28: =N28+O27 -> 3091410 | R28: =B28 -> Ending cash balance | T28: =T27 -> -81625 | U28: =T28+U27 -> -244374.49 | V28: =U28+V27 -> -358840.32 | W28: =V28+W27 -> -89493.356 | X28: =W28+X27 -> 786508.42 | Y28: =X28+Y27 -> 2847035.5 | AC28: =R38 -> Ending Cash Balance | AD28: =T38 -> 18375 | AE28: =U38 -> 155625.51 | AF28: =V38 -> 441159.68 | AG28: =W38 -> 910506.64 | AH28: =X38 -> 1886508.4 | AI28: =Y38 -> 3947035.5
B30: Financing | R30: =B30 -> Financing
B31: Equity Funding | C31: =Operations!D583 -> 100000 | D31: =Operations!E583 -> 0 | E31: =Operations!F583 -> 0 | F31: =Operations!G583 -> 0 | G31: =Operations!H583 -> 300000 | H31: =Operations!I583 -> 0 | I31: =Operations!J583 -> 0 | J31: =Operations!K583 -> 0 | L31: =Operations!M583 -> 400000 | M31: =Operations!N583 -> 200000 | N31: =Operations!O583 -> 100000 | O31: =Operations!P583 -> 0 | R31: =B31 -> Equity Funding | T31: =SUM(C31:F31) -> 100000 | U31: =SUM(G31:J31) -> 300000 | V31: =L31 -> 400000 | W31: =M31 -> 200000 | X31: =N31 -> 100000 | Y31: =O31 -> 0
B32: Change in Debt | C32: =Operations!D595 -> 0 | D32: =Operations!E595 -> 0 | E32: =Operations!F595 -> 0 | F32: =Operations!G595 -> 0 | G32: =Operations!H595 -> 0 | H32: =Operations!I595 -> 0 | I32: =Operations!J595 -> 0 | J32: =Operations!K595 -> 0 | L32: =Operations!K595 -> 0 | M32: =Operations!L595 -> 0 | N32: =Operations!M595 -> 0 | O32: =Operations!N595 -> 0 | R32: =B32 -> Change in Debt | T32: =SUM(C32:F32) -> 0 | U32: =SUM(G32:J32) -> 0 | V32: =L32 -> 0 | W32: =M32 -> 0 | X32: =N32 -> 0 | Y32: =O32 -> 0
B33: Interest Payments | C33: =Operations!D608*-1 -> 0 | D33: =Operations!E608*-1 -> 0 | E33: =Operations!F608*-1 -> 0 | F33: =Operations!G608*-1 -> 0 | G33: =Operations!H608*-1 -> 0 | H33: =Operations!I608*-1 -> 0 | I33: =Operations!J608*-1 -> 0 | J33: =Operations!K608*-1 -> 0 | L33: =Operations!M608*-1 -> 0 | M33: =Operations!N608*-1 -> 0 | N33: =Operations!O608*-1 -> 0 | O33: =Operations!P608*-1 -> 0 | R33: =B33 -> Interest Payments | T33: =SUM(C33:F33) -> 0 | U33: =SUM(G33:J33) -> 0 | V33: =L33 -> 0 | W33: =M33 -> 0 | X33: =N33 -> 0 | Y33: =O33 -> 0
B34: Total Financing | C34: =SUM(C31:C33) -> 100000 | D34: =SUM(D31:D33) -> 0 | E34: =SUM(E31:E33) -> 0 | F34: =SUM(F31:F33) -> 0 | G34: =SUM(G31:G33) -> 300000 | H34: =SUM(H31:H33) -> 0 | I34: =SUM(I31:I33) -> 0 | J34: =SUM(J31:J33) -> 0 | L34: =SUM(L31:L33) -> 400000 | M34: =SUM(M31:M33) -> 200000 | N34: =SUM(N31:N33) -> 100000 | O34: =SUM(O31:O33) -> 0 | R34: =B34 -> Total Financing | T34: =SUM(C34:F34) -> 100000 | U34: =SUM(G34:J34) -> 300000 | V34: =L34 -> 400000 | W34: =M34 -> 200000 | X34: =N34 -> 100000 | Y34: =O34 -> 0
B36: Cash Flow | C36: =SUM(C20,C25,C34) -> 87250 | D36: =SUM(D20,D25,D34) -> -12750 | E36: =SUM(E20,E25,E34) -> -28062.5 | F36: =SUM(F20,F25,F34) -> -28062.5 | G36: =SUM(G20,G25,G34) -> 250669.76 | H36: =SUM(H20,H25,H34) -> -27725.261 | I36: =SUM(I20,I25,I34) -> -33095.886 | J36: =SUM(J20,J25,J34) -> -52598.104 | L36: =SUM(L20,L25,L34) -> 285534.18 | M36: =SUM(M20,M25,M34) -> 469346.96 | N36: =SUM(N20,N25,N34) -> 976001.78 | O36: =SUM(O20,O25,O34) -> 2060527.1 | R36: =B36 -> Cash Flow | T36: =SUM(C36:F36) -> 18375 | U36: =SUM(G36:J36) -> 137250.51 | V36: =L36 -> 285534.18 | W36: =M36 -> 469346.96 | X36: =N36 -> 976001.78 | Y36: =O36 -> 2060527.1
B38: Ending Cash Balance | C38: =C12+C36 -> 87250 | D38: =D12+D36 -> 74500 | E38: =E12+E36 -> 46437.5 | F38: =F12+F36 -> 18375 | G38: =G12+G36 -> 269044.76 | H38: =H12+H36 -> 241319.5 | I38: =I12+I36 -> 208223.61 | J38: =J12+J36 -> 155625.51 | L38: =L12+L36 -> 441159.68 | M38: =M12+M36 -> 910506.64 | N38: =N12+N36 -> 1886508.4 | O38: =O12+O36 -> 3947035.5 | R38: =B38 -> Ending Cash Balance | T38: =F38 -> 18375 | U38: =J38 -> 155625.51 | V38: =L38 -> 441159.68 | W38: =M38 -> 910506.64 | X38: =N38 -> 1886508.4 | Y38: =O38 -> 3947035.5
R42: Is the Company Bankrupt? (Ending Cash at any time<0) | S42: =IF(MIN(C38:J38, L38:O38)<0, "Yes", "No") -> No
AC49: Free Cash Flow (from Operations and Investing Before Financing) - Annual Forecast (6 years)
AD51: Annual Projections
AD52: Year 1 | AE52: Year 2 | AF52: Year 3 | AG52: Year 4 | AH52: Year 5 | AI52: Year 6
AD53: =T10 -> 46023 | AE53: =U10 -> 46388 | AF53: =V10 -> 46753 | AG53: =W10 -> 47119 | AH53: =X10 -> 47484 | AI53: =Y10 -> 47849
AC54: =R36 -> Cash Flow | AD54: =T20+T25 -> -81625 | AE54: =U20+U25 -> -162749.49 | AF54: =V20+V25 -> -114465.82 | AG54: =W20+W25 -> 269346.96 | AH54: =X20+X25 -> 876001.78 | AI54: =Y20+Y25 -> 2060527.1
AC55: =R38 -> Ending Cash Balance | AD55: =AD54 -> -81625 | AE55: =AD55+AE54 -> -244374.49 | AF55: =AE55+AF54 -> -358840.32 | AG55: =AF55+AG54 -> -89493.356 | AH55: =AG55+AH54 -> 786508.42 | AI55: =AH55+AI54 -> 2847035.5
A76: 2. Income Statement
...

Sheet Valuation
A1: Q.2. Valuation Based on Comparables
A2: Input:Comparable Company Valuation Data
B3: Comparable Company Valuation Data
B4: Data as on 31 December 2024 | E4: (dollars in millions)
B5: *Values as per Yahoo Finance
B6: Company Name (Ticker) | C6: Enterprise Value* (EV) | D6: Revenue* (Latest or Forward) | E6: EBITDA* (Normalized) | F6: EV/Revenue | G6: EV/EBITDA | H6: EV/Revenue as per Yahoo Finance | I6: EV/EBITDA as per Yahoo Finance
B7: S&P Global (SPGI) | C7: =163.53*1000 -> 163530 | D7: 14208 | E7: 6718 | F7: =IF(D7=0,0,C7/D7) -> 11.509713 | G7: =C7/E7 -> 24.342066 | H7: 11.88 | I7: 25.9
B8: Blackbaud (BLKB) | C8: 4640 | D8: =1155495*1000/1000000 -> 1155.495 | E8: =270581/1000 -> 270.581 | F8: =IF(D8=0,0,C8/D8) -> 4.015595 | G8: =C8/E8 -> 17.148285 | H8: 4.04 | I8: 17.82
B9: ServiceNow (NOW) | C9: =215.85*1000 -> 215850 | D9: =10984000*1000/1000000 -> 10984 | E9: =2325000/1000 -> 2325 | F9: =IF(D9=0,0,C9/D9) -> 19.651311 | G9: =C9/E9 -> 92.83871 | H9: 20.63 | I9: 97.67
B10: Salesforce(CRM) | C10: =277.31*1000 -> 277310 | D10: 34857 | E10: 11223 | F10: =IF(D10=0,0,C10/D10) -> 7.9556474 | G10: =C10/E10 -> 24.70908 | H10: 7.6 | I10: 26.28
B11: IBM (IBM) | C11: =250.05*1000 -> 250050 | D11: 62753 | E11: 12317 | F11: =IF(D11=0,0,C11/D11) -> 3.9846701 | G11: =C11/E11 -> 20.30121 | H11: 4 | I11: 19.77
B12: Summary Statistics
B13: Mean | C13: =AVERAGE(C7:C10) -> 165332.5 | D13: =AVERAGE(D7:D10) -> 15301.124 | E13: =AVERAGE(E7:E10) -> 5134.1452 | F13: =AVERAGE(F7:F10) -> 10.783067 | G13: =AVERAGE(G7:G10) -> 39.759535
B14: Median | C14: =MEDIAN(C7:C10) -> 189690 | D14: =MEDIAN(D7:D10) -> 12596 | E14: =MEDIAN(E7:E10) -> 4521.5 | F14: =MEDIAN(F7:F10) -> 9.7326801 | G14: =MEDIAN(G7:G10) -> 24.525573
B17: Company descriptions: | C17: Parameters for selection: ESG/impact software + ESG data/trust infrastructure + Public + Positive EBITDA
B18: S&P Global (SPGI) | C18: S&P Global supplies ESG data, benchmarks, and ratings used by enterprises and stakeholders to assess sustainability performance. Similar to Sustainsphere, it monetize trust, standardization, and credibility of ESG/impact data, though SustainSphere is execution-oriented rather than rating-only.
B19: Blackbaud (BLKB) | C19: Blackbaud provides software platforms connecting nonprofits, foundations, and corporate donors to manage giving, impact, and reporting at scale.Like SustainSphere, Blackbaud operates at the intersection of corporates and social-impact organizations, enabling measurable and reportable impact.
B20: ServiceNow (NOW) | C20: ServiceNow is an enterprise workflow platform that digitizes governance, compliance, and operational processes across large organizations. SustainSphere similarly digitizes and automates CSR partner discovery, verification, execution, and reporting workflows for enterprises.
B21: Salesforce(CRM) | C21: Salesforce operates a large-scale enterprise platform combining data, workflows, analytics, and ecosystem connectivity, including sustainability and ESG modules. It relies on platform economics, network effects, and visibility dashboards to create recurring value for enterprise customers just like the aims of Sustainsphere.
B22: IBM (IBM) | C22: IBM provides enterprise software and data platforms, including ESG and sustainability reporting solutions through acquisitions like Envizi. IBM represents the ESG infrastructure and verification layer that SustainSphere aims to offer in a more focused, CSR-network-centric form.
A25: 1. VCM Valuation (based on Company Comparables)
B26: Venture Capital Model based on Company Comparables Method
B28: Inputs | C28: =H49 -> 47849 | G28: Highest Ratio | H28: =IF($E$29="EV/Revenue",MAX($F$7:$F$11),MAX($G$7:$G$11)) -> 92.83871
B29: Revenue of the last Year | C29: =H50 -> 3369227.7 | D29: Calculate by ratio | E29: EV/EBITDA | G29: Lowest Ratio | H29: =IF($E$29="EV/Revenue", _xlfn.MINIFS($F$7:$F$11,$F$7:$F$11,">0"), _xlfn.MINIFS($G$7:$G$11,$G$7:$G$11,">0") ) -> 17.148285 | R29: 0.3
B30: Multiple | C30: =H32 -> 24.525573 | D30: Take | E30: Median Ratio | G30: Mean Ratio | H30: =IF($E$29="EV/Revenue",$F$13,$G$13) -> 39.759535 | R30: 0.32
B31: Discount rate | C31: 0.12 | G31: Median Ratio | H31: =IF($E$29="EV/Revenue",$F$14,$G$14) -> 24.525573 | R31: 0.34
G32: Selected Ratio | H32: =IFERROR(VLOOKUP(E30, G28:H31, 2, FALSE), "Not Found") -> 24.525573 | R32: 0.36
B33: Calculations | R33: 0.38
B34: Estimated exit value | C34: =C29*C30*0.7 -> 57842568 | D34: Assumption: Metric multiple discounted by 30% for public companies | R34: 0.42
B35: Net Present Value of the Company | C35: =C34*H54 -> 29304845 | R35: 0.44
C37: VCM Sensitivity Analysis
D38: Using EV/Revenue | F38: Using EV/EBITDA
D39: Ratio | E39: NPV using EV/Revenue Multiple | F39: Ratio | G39: NPV using EV/EBITDA multiple
C40: Highest Ratio | D40: 19.65 | E40: =$C$29*D40*0.7*$H$54 -> 23479175 | F40: 92.84 | G40: =$C$29*F40*0.7*$H$54 -> 1.1093163e+08
C41: Lowest Ratio | D41: 3.98 | E41: =$C$29*D41*0.7*$H$54 -> 4755578.4 | F41: 17.15 | G41: =$C$29*F41*0.7*$H$54 -> 20492002
C42: Mean Ratio | D42: 10.78 | E42: =$C$29*D42*0.7*$H$54 -> 12880687 | F42: 39.76 | G42: =$C$29*F42*0.7*$H$54 -> 47507989
C43: Median Ratio | D43: 9.73 | E43: =$C$29*D43*0.7*$H$54 -> 11626075 | F43: 24.53 | G43: =$C$29*F43*0.7*$H$54 -> 29310135
A45: 2. DCF Valuation (based on Company Comparables)
B46: Valuation with the Discounted Cash Flow method (based on Company Comparables)
B47: Discount rate | C47: 0.12 | D47: Calculate by ratio | E47: EV/Revenue | G47: Take | H47: Median Ratio | I47: Highest Ratio | J47: =IF($E$47="EV/Revenue",MAX($F$7:$F$11),MAX($G$7:$G$11)) -> 19.651311 | L47: Mean | M47: =J13 -> 0
...

Sheet Cap Table
C1: Q.3. & Q. 4. Cap Table | D1: Start | E1: Pre-Seed | F1: Seed | G1: Series A | H1: Series B | I1: Series C
A4: 1 | C4: Inputs
E5: Pre-Seed | F5: Seed | G5: Series A | H5: Series B | I5: Series C
C6: Timing | E6: =Operations!E552 -> 46023 | F6: =Operations!E553 -> 46388 | G6: =Operations!E554 -> 46753 | H6: =Operations!E555 -> 47119 | I6: =Operations!E556 -> 47484
C7: ESOP | D7: 0 | E7: 0 | F7: 0 | G7: 0 | H7: 0 | I7: 0
C8: Price Per Share | E8: =IF(Operations!F552>0,Operations!F552,E9/D23) -> 1.0111111 | F8: =IF(Operations!F553>0,Operations!F553,F9/E23) -> 2.002 | G8: =IF(Operations!F554>0,Operations!F554,G9/F23) -> 7 | H8: =IF(Operations!F555>0,Operations!F555,H9/G23) -> 14 | I8: =IF(Operations!F556>0,Operations!F556,I9/H23) -> 20
C9: Pre-Money Valuation | E9: =E12-E10 -> 1011111.1 | F9: =F12-F10 -> 2200000 | G9: =G12-G10 -> 8741258.7 | H9: =H12-H10 -> 18282517 | I9: =I12-I10 -> 26403596
C10: New Capital/Round Investment | E10: =Operations!D552 -> 100000 | F10: =Operations!D553 -> 300000 | G10: =Operations!D554 -> 400000 | H10: =Operations!D555 -> 200000 | I10: =Operations!D556 -> 100000
C11: Round Ownership Percentage | E11: =IF(Operations!G552>0,Operations!G552,E54) -> 0.09 | F11: =IF(Operations!G553>0,Operations!G553,F55) -> 0.12 | G11: =IF(Operations!G554>0,Operations!G554,G56) -> 0.04375765 | H11: =IF(Operations!G555>0,Operations!G555,H57) -> 0.010821037 | I11: =IF(Operations!G556>0,Operations!G556,I58) -> 0.0037730728
C12: Post Money Valuation | E12: =IF(E11>0,E10/E11,0) -> 1111111.1 | F12: =IF(F11>0,F10/F11,0) -> 2500000 | G12: =IF(G11>0,G10/G11,0) -> 9141258.7 | H12: =IF(H11>0,H10/H11,0) -> 18482517 | I12: =IF(I11>0,I10/I11,0) -> 26503596
C13: New Shares | E13: =IF(E8>0,E10/E8,0) -> 98901.099 | F13: =IF(F8>0,F10/F8,0) -> 149850.15 | G13: =IF(G8>0,G10/G8,0) -> 57142.857 | H13: =IF(H8>0,H10/H8,0) -> 14285.714 | I13: =IF(I8>0,I10/I8,0) -> 5000
C14: Conditional attainment probability | E14: 0.9 | F14: 0.8 | G14: 0.7 | H14: 0.5 | I14: 0.1
C15: Risk adjusted Expected Capital raised based on conditional | E15: =E14*E10 -> 90000 | F15: =F14*F10 -> 240000 | G15: =G14*G10 -> 280000 | H15: =H14*H10 -> 100000 | I15: =I14*I10 -> 10000
A21: 2 | C21: Shares
C23: Total Shares | D23: =D25+D32+D39 -> 1000000 | E23: =E25+E32+E39 -> 1098901.1 | F23: =F25+F32+F39 -> 1248751.2 | G23: =G25+G32+G39 -> 1305894.1 | H23: =H25+H32+H39 -> 1320179.8 | I23: =I25+I32+I39 -> 1325179.8
C25: Founders Total Share | D25: =SUM(D26:D30) -> 1000000 | E25: =SUM(E26:E30) -> 1000000 | F25: =SUM(F26:F30) -> 1000000 | G25: =SUM(G26:G30) -> 1000000 | H25: =SUM(H26:H30) -> 1000000 | I25: =SUM(I26:I30) -> 1000000
C26: Founder #1 | D26: 200000 | E26: =D26 -> 200000 | F26: =E26 -> 200000 | G26: =F26 -> 200000 | H26: =G26 -> 200000 | I26: =H26 -> 200000
C27: Founder #2 | D27: 200000 | E27: =D27 -> 200000 | F27: =E27 -> 200000 | G27: =F27 -> 200000 | H27: =G27 -> 200000 | I27: =H27 -> 200000
C28: Founder #3 | D28: 200000 | E28: =D28 -> 200000 | F28: =E28 -> 200000 | G28: =F28 -> 200000 | H28: =G28 -> 200000 | I28: =H28 -> 200000
C29: Founder #4 | D29: 200000 | E29: =D29 -> 200000 | F29: =E29 -> 200000 | G29: =F29 -> 200000 | H29: =G29 -> 200000 | I29: =H29 -> 200000
C30: Founder #5 | D30: 200000 | E30: =D30 -> 200000 | F30: =E30 -> 200000 | G30: =F30 -> 200000 | H30: =G30 -> 200000 | I30: =H30 -> 200000
C32: Investors | D32: =SUM(D33:D37) -> 0 | E32: =SUM(E33:E37) -> 98901.099 | F32: =SUM(F33:F37) -> 248751.25 | G32: =SUM(G33:G37) -> 305894.11 | H32: =SUM(H33:H37) -> 320179.82 | I32: =SUM(I33:I37) -> 325179.82
C33: Pre-Seed Investors | D33: 0 | E33: =E13 -> 98901.099 | F33: =E33 -> 98901.099 | G33: =F33 -> 98901.099 | H33: =G33 -> 98901.099 | I33: =H33 -> 98901.099
C34: Seed Investors | D34: 0 | E34: 0 | F34: =F13 -> 149850.15 | G34: =F34 -> 149850.15 | H34: =G34 -> 149850.15 | I34: =H34 -> 149850.15
C35: Series A Investors | D35: 0 | E35: 0 | F35: 0 | G35: =G13 -> 57142.857 | H35: =G35 -> 57142.857 | I35: =H35 -> 57142.857
C36: Series B Investors | D36: 0 | E36: 0 | F36: 0 | G36: 0 | H36: =H13 -> 14285.714 | I36: =H36 -> 14285.714
C37: Series C Investors | D37: 0 | E37: 0 | F37: 0 | G37: 0 | H37: 0 | I37: =I13 -> 5000
C39: Stock Option Pool (ESOP) | D39: =D7 -> 0 | E39: =E7 -> 0 | F39: =F7 -> 0 | G39: =G7 -> 0 | H39: =H7 -> 0 | I39: =I7 -> 0
A42: 3 | C42: Equity Ownership
C44: Total | D44: =D46+D53+D60 -> 1 | E44: =E46+E53+E60 -> 1 | F44: =F46+F53+F60 -> 1 | G44: =G46+G53+G60 -> 1 | H44: =H46+H53+H60 -> 1 | I44: =I46+I53+I60 -> 1
C46: Founders | D46: =SUM(D47:D51) -> 1 | E46: =SUM(E47:E51) -> 0.91 | F46: =SUM(F47:F51) -> 0.8008 | G46: =SUM(G47:G51) -> 0.76575887 | H46: =SUM(H47:H51) -> 0.75747257 | I46: =SUM(I47:I51) -> 0.75461457
C47: Founder #1 | D47: =D26/$D$23 -> 0.2 | E47: =E26/$E$23 -> 0.182 | F47: =F26/$F$23 -> 0.16016 | G47: =G26/$G$23 -> 0.15315177 | H47: =H26/$H$23 -> 0.15149451 | I47: =I26/$I$23 -> 0.15092291
C48: Founder #2 | D48: =D27/$D$23 -> 0.2 | E48: =E27/$E$23 -> 0.182 | F48: =F27/$F$23 -> 0.16016 | G48: =G27/$G$23 -> 0.15315177 | H48: =H27/$H$23 -> 0.15149451 | I48: =I27/$I$23 -> 0.15092291
C49: Founder #3 | D49: =D28/$D$23 -> 0.2 | E49: =E28/$E$23 -> 0.182 | F49: =F28/$F$23 -> 0.16016 | G49: =G28/$G$23 -> 0.15315177 | H49: =H28/$H$23 -> 0.15149451 | I49: =I28/$I$23 -> 0.15092291
C50: Founder #4 | D50: =D29/$D$23 -> 0.2 | E50: =E29/$E$23 -> 0.182 | F50: =F29/$F$23 -> 0.16016 | G50: =G29/$G$23 -> 0.15315177 | H50: =H29/$H$23 -> 0.15149451 | I50: =I29/$I$23 -> 0.15092291
C51: Founder #5 | D51: =D30/$D$23 -> 0.2 | E51: =E30/$E$23 -> 0.182 | F51: =F30/$F$23 -> 0.16016 | G51: =G30/$G$23 -> 0.15315177 | H51: =H30/$H$23 -> 0.15149451 | I51: =I30/$I$23 -> 0.15092291
C53: Investors | D53: =SUM(D54:D58) -> 0 | E53: =SUM(E54:E58) -> 0.09 | F53: =SUM(F54:F58) -> 0.1992 | G53: =SUM(G54:G58) -> 0.23424113 | H53: =SUM(H54:H58) -> 0.24252743 | I53: =SUM(I54:I58) -> 0.24538543
C54: Pre-Seed Investors | D54: =D33/$D$23 -> 0 | E54: =E33/$E$23 -> 0.09 | F54: =F33/$F$23 -> 0.0792 | G54: =G33/$G$23 -> 0.075734394 | H54: =H33/$H$23 -> 0.074914869 | I54: =I33/$I$23 -> 0.07463221
C55: Seed Investors | D55: =D34/$D$23 -> 0 | E55: =E34/$E$23 -> 0 | F55: =F34/$F$23 -> 0.12 | G55: =G34/$G$23 -> 0.11474908 | H55: =H34/$H$23 -> 0.11350738 | I55: =I34/$I$23 -> 0.11307911
C56: Series A Investors | D56: =D35/$D$23 -> 0 | E56: =E35/$E$23 -> 0 | F56: =F35/$F$23 -> 0 | G56: =G35/$G$23 -> 0.04375765 | H56: =H35/$H$23 -> 0.043284147 | I56: =I35/$I$23 -> 0.043120833
...
