Workbook
Name COGSMethod: COGS!$B$5:$B$6
Name CompanyName: Intro!$B$19
Name enter_here_date: COGS!$B$17
Name StartDate: Intro!$B$21
Name SubHeader: Intro!$B$23

Sheet Intro
A1: Fundamentals of Entrepreneurial Finance - Financial Projections Model
A3: Introduction
A4: The model is designed to auto-populate based on the information you provide
A5: Some cells are required and others are optional
A6: Use the colour guide to determine which inputs are needed
A8: Key | B8: Example | C8: Meaning
A9: Orange Fill | C9: Required numerical inputs
A11: Yellow Fill | C11: Optional numerical or text inputs
A13: No Fill | C13: The user should not enter any information in empty cells
C14: All data in cells with no colour fill will be calculated automatically for the user
A17: Starting Inputs
A19: Company Name: | B19: WorkHorse Inc.
A21: Start Date: | B21: 43831
A23: Currency, Units: | B23: USD

Sheet Revenues ->

Sheet Top-Down
A1: Top-Down Revenue Projection | Q1: =CompanyName &" Revenue Forecast" -> WorkHorse Inc. Revenue Forecast
A2: ="Revenues ("&SubHeader&")" -> Revenues (USD)
Q3: First two years - Quarterly
A4: Market Size and Sales Assumptions
B5: Market 1 | C5: Notes on assumptions | F5: Market 2 | G5: Notes on assumptions | J5: Market 3 | K5: Notes on assumptions
A6: Year of Market Sizing | B6: 2020 | F6: 2020
A7: Overall market size | B7: 1000000000 | F7: 500000000
A8: Target segment share | B8: 0.1 | F8: 0.1
A9: Target market size | B9: 100000000 | F9: 50000000
A10: Market Growth Rate | B10: 0.3 | C10: Gaining market share would take time | F10: 0.35 | G10: Gaining market share would take time
A13: Market Size (prior to margin for retailers & distributors)
B14: Market Size (years 1 and 2) | K14: Market Size (years 3 to 6)
B15: Year 1 | F15: Year 2 | K15: Year 3 | L15: Year 4 | M15: Year 5 | N15: Year 6
B16: =StartDate -> 43831 | C16: =EDATE(B16,3) -> 43922 | D16: =EDATE(C16,3) -> 44013 | E16: =EDATE(D16,3) -> 44105 | F16: =EDATE(E16,3) -> 44197 | G16: =EDATE(F16,3) -> 44287 | H16: =EDATE(G16,3) -> 44378 | I16: =EDATE(H16,3) -> 44470 | K16: =EDATE(I16,3) -> 44562 | L16: =EDATE(K16,12) -> 44927 | M16: =EDATE(L16,12) -> 45292 | N16: =EDATE(M16,12) -> 45658
A17: =$B$5 -> Market 1 | B17: =$B$9*((1+$B$10)^(YEAR(B41)-$B$6))/4 -> 25000000 | C17: =$B$9*((1+$B$10)^(YEAR(C41)-$B$6))/4 -> 25000000 | D17: =$B$9*((1+$B$10)^(YEAR(D41)-$B$6))/4 -> 25000000 | E17: =$B$9*((1+$B$10)^(YEAR(E41)-$B$6))/4 -> 25000000 | F17: =$B$9*((1+$B$10)^(YEAR(F41)-$B$6))/4 -> 32500000 | G17: =$B$9*((1+$B$10)^(YEAR(G41)-$B$6))/4 -> 32500000 | H17: =$B$9*((1+$B$10)^(YEAR(H41)-$B$6))/4 -> 32500000 | I17: =$B$9*((1+$B$10)^(YEAR(I41)-$B$6))/4 -> 32500000 | K17: =$B$9*((1+$B$10)^(YEAR(K41)-$B$6)) -> 1.69e+08 | L17: =$B$9*((1+$B$10)^(YEAR(L41)-$B$6)) -> 2.197e+08 | M17: =$B$9*((1+$B$10)^(YEAR(M41)-$B$6)) -> 2.8561e+08 | N17: =$B$9*((1+$B$10)^(YEAR(N41)-$B$6)) -> 3.71293e+08
A18: =$F$5 -> Market 2 | B18: =$F$9*((1+$F$10)^(YEAR(B41)-$F$6))/4 -> 12500000 | C18: =$F$9*((1+$F$10)^(YEAR(C41)-$F$6))/4 -> 12500000 | D18: =$F$9*((1+$F$10)^(YEAR(D41)-$F$6))/4 -> 12500000 | E18: =$F$9*((1+$F$10)^(YEAR(E41)-$F$6))/4 -> 12500000 | F18: =$F$9*((1+$F$10)^(YEAR(F41)-$F$6))/4 -> 16875000 | G18: =$F$9*((1+$F$10)^(YEAR(G41)-$F$6))/4 -> 16875000 | H18: =$F$9*((1+$F$10)^(YEAR(H41)-$F$6))/4 -> 16875000 | I18: =$F$9*((1+$F$10)^(YEAR(I41)-$F$6))/4 -> 16875000 | K18: =$F$9*((1+$F$10)^(YEAR(K41)-$F$6)) -> 91125000 | L18: =$F$9*((1+$F$10)^(YEAR(L41)-$F$6)) -> 1.2301875e+08 | M18: =$F$9*((1+$F$10)^(YEAR(M41)-$F$6)) -> 1.6607531e+08 | N18: =$F$9*((1+$F$10)^(YEAR(N41)-$F$6)) -> 2.2420167e+08
A19: =$J$5 -> Market 3 | B19: =$J$9*((1+$J$10)^(YEAR(B41)-$J$6))/4 -> 0 | C19: =$J$9*((1+$J$10)^(YEAR(C41)-$J$6))/4 -> 0 | D19: =$J$9*((1+$J$10)^(YEAR(D41)-$J$6))/4 -> 0 | E19: =$J$9*((1+$J$10)^(YEAR(E41)-$J$6))/4 -> 0 | F19: =$J$9*((1+$J$10)^(YEAR(F41)-$J$6))/4 -> 0 | G19: =$J$9*((1+$J$10)^(YEAR(G41)-$J$6))/4 -> 0 | H19: =$J$9*((1+$J$10)^(YEAR(H41)-$J$6))/4 -> 0 | I19: =$J$9*((1+$J$10)^(YEAR(I41)-$J$6))/4 -> 0 | K19: =$J$9*((1+$J$10)^(YEAR(K41)-$J$6)) -> 0 | L19: =$J$9*((1+$J$10)^(YEAR(L41)-$J$6)) -> 0 | M19: =$J$9*((1+$J$10)^(YEAR(M41)-$J$6)) -> 0 | N19: =$J$9*((1+$J$10)^(YEAR(N41)-$J$6)) -> 0
Q20: Full Forecast - Annual (6 years)
A21: Assumption: Third Party Margins
B22: Third Party Margins (years 1 and 2) | K22: Third Party Margins (years 3 to 6) | R22: Annual Projections
B23: Year 1 | F23: Year 2 | K23: Year 3 | L23: Year 4 | M23: Year 5 | N23: Year 6 | R23: Year 1 | S23: Year 2 | T23: Year 3 | U23: Year 4 | V23: Year 5 | W23: Year 6
B24: =StartDate -> 43831 | C24: =EDATE(B24,3) -> 43922 | D24: =EDATE(C24,3) -> 44013 | E24: =EDATE(D24,3) -> 44105 | F24: =EDATE(E24,3) -> 44197 | G24: =EDATE(F24,3) -> 44287 | H24: =EDATE(G24,3) -> 44378 | I24: =EDATE(H24,3) -> 44470 | K24: =EDATE(I24,3) -> 44562 | L24: =EDATE(K24,12) -> 44927 | M24: =EDATE(L24,12) -> 45292 | N24: =EDATE(M24,12) -> 45658 | R24: =B41 -> 43831 | S24: =F41 -> 44197 | T24: =K41 -> 44562 | U24: =EDATE(T24,12) -> 44927 | V24: =EDATE(U24,12) -> 45292 | W24: =EDATE(V24,12) -> 45658
A25: =$B$5 -> Market 1 | F25: 0.4 | G25: 0.4 | H25: 0.4 | I25: 0.4 | K25: 0.5 | L25: 0.5 | M25: 0.5 | N25: 0.5 | Q25: =A42 -> Market 1 | R25: =SUM(B42:E42) -> 0 | S25: =SUM(F42:I42) -> 3900000 | T25: =K42 -> 8450000 | U25: =L42 -> 11534250 | V25: =M42 -> 15744251 | W25: =N42 -> 21490903
A26: =$F$5 -> Market 2 | K26: 0.5 | L26: 0.5 | M26: 0.5 | N26: 0.5 | Q26: =A43 -> Market 2 | R26: =SUM(B43:E43) -> 0 | S26: =SUM(F43:I43) -> 0 | T26: =K43 -> 2278125 | U26: =L43 -> 3536789.1 | V26: =M43 -> 5490865 | W26: =N43 -> 8524567.9
A27: =$J$5 -> Market 3 | Q27: =A44 -> Market 3 | R27: =SUM(B44:E44) -> 0 | S27: =SUM(F44:I44) -> 0 | T27: =K44 -> 0 | U27: =L44 -> 0 | V27: =M44 -> 0 | W27: =N44 -> 0
R28: =SUM(R25:R27) -> 0 | S28: =SUM(S25:S27) -> 3900000 | T28: =SUM(T25:T27) -> 10728125 | U28: =SUM(U25:U27) -> 15071039 | V28: =SUM(V25:V27) -> 21235116 | W28: =SUM(W25:W27) -> 30015471
A29: Assumption: Market Penetration by period
B30: Market penetration (years 1 and 2) | K30: Market Penetration (years 3 to 6)
B31: Year 1 | F31: Year 2 | K31: Year 3 | L31: Year 4 | M31: Year 5 | N31: Year 6
B32: =StartDate -> 43831 | C32: =EDATE(B32,3) -> 43922 | D32: =EDATE(C32,3) -> 44013 | E32: =EDATE(D32,3) -> 44105 | F32: =EDATE(E32,3) -> 44197 | G32: =EDATE(F32,3) -> 44287 | H32: =EDATE(G32,3) -> 44378 | I32: =EDATE(H32,3) -> 44470 | K32: =EDATE(I32,3) -> 44562 | L32: =EDATE(K32,12) -> 44927 | M32: =EDATE(L32,12) -> 45292 | N32: =EDATE(M32,12) -> 45658
A33: =$B$5 -> Market 1 | F33: 0.05 | G33: 0.05 | H33: 0.05 | I33: 0.05 | K33: 0.1 | L33: =K33*1.05 -> 0.105 | M33: =L33*1.05 -> 0.11025 | N33: =M33*1.05 -> 0.1157625
A34: =$F$5 -> Market 2 | K34: 0.05 | L34: =K34*1.15 -> 0.0575 | M34: =L34*1.15 -> 0.066125 | N34: =M34*1.15 -> 0.07604375
A35: =$J$5 -> Market 3
A38: Top-Down Revenue Projection
B39: Quarterly Projections (years 1 and 2) | K39: Annual Projections (years 3 to 6)
B40: Year 1 | F40: Year 2 | K40: Year 3 | L40: Year 4 | M40: Year 5 | N40: Year 6
B41: =StartDate -> 43831 | C41: =EDATE(B41,3) -> 43922 | D41: =EDATE(C41,3) -> 44013 | E41: =EDATE(D41,3) -> 44105 | F41: =EDATE(E41,3) -> 44197 | G41: =EDATE(F41,3) -> 44287 | H41: =EDATE(G41,3) -> 44378 | I41: =EDATE(H41,3) -> 44470 | K41: =EDATE(I41,3) -> 44562 | L41: =EDATE(K41,12) -> 44927 | M41: =EDATE(L41,12) -> 45292 | N41: =EDATE(M41,12) -> 45658
A42: =$B$5 -> Market 1 | B42: =B17*(1-B25)*B33 -> 0 | C42: =C17*(1-C25)*C33 -> 0 | D42: =D17*(1-D25)*D33 -> 0 | E42: =E17*(1-E25)*E33 -> 0 | F42: =F17*(1-F25)*F33 -> 975000 | G42: =G17*(1-G25)*G33 -> 975000 | H42: =H17*(1-H25)*H33 -> 975000 | I42: =I17*(1-I25)*I33 -> 975000 | K42: =K17*(1-K25)*K33 -> 8450000 | L42: =L17*(1-L25)*L33 -> 11534250 | M42: =M17*(1-M25)*M33 -> 15744251 | N42: =N17*(1-N25)*N33 -> 21490903
A43: =$F$5 -> Market 2 | B43: =B18*(1-B26)*B34 -> 0 | C43: =C18*(1-C26)*C34 -> 0 | D43: =D18*(1-D26)*D34 -> 0 | E43: =E18*(1-E26)*E34 -> 0 | F43: =F18*(1-F26)*F34 -> 0 | G43: =G18*(1-G26)*G34 -> 0 | H43: =H18*(1-H26)*H34 -> 0 | I43: =I18*(1-I26)*I34 -> 0 | K43: =K18*(1-K26)*K34 -> 2278125 | L43: =L18*(1-L26)*L34 -> 3536789.1 | M43: =M18*(1-M26)*M34 -> 5490865 | N43: =N18*(1-N26)*N34 -> 8524567.9
A44: =$J$5 -> Market 3 | B44: =B19*(1-B27)*B35 -> 0 | C44: =C19*(1-C27)*C35 -> 0 | D44: =D19*(1-D27)*D35 -> 0 | E44: =E19*(1-E27)*E35 -> 0 | F44: =F19*(1-F27)*F35 -> 0 | G44: =G19*(1-G27)*G35 -> 0 | H44: =H19*(1-H27)*H35 -> 0 | I44: =I19*(1-I27)*I35 -> 0 | K44: =K19*(1-K27)*K35 -> 0 | L44: =L19*(1-L27)*L35 -> 0 | M44: =M19*(1-M27)*M35 -> 0 | N44: =N19*(1-N27)*N35 -> 0
...

Sheet Bottom-Up
A1: Bottom-Up Revenue Projection | Q1: =CompanyName &" Revenue Forecast" -> WorkHorse Inc. Revenue Forecast
A2: ="Revenues ("&SubHeader&")" -> Revenues (USD)
Q3: First two years - Quarterly
A4: Product Information
B5: Wonderfoal | C5: Notes on assumptions | F5: NakotaStar | G5: Notes on assumptions | J5: Product 3 | K5: Notes on assumptions
A6: List price (net of tax) | B6: 580 | C6: Better power performance, superior design | F6: 780 | G6: Better power performance, superior design
A7: Third party margin | B7: 0.4 | F7: 0.6
A8: Rate of returns | B8: 0.05 | F8: 0.05
A9: Net price | B9: =B6*(1-B7)*(1-B8) -> 330.6 | F9: =F6*(1-F7)*(1-F8) -> 296.4
A11: Sales Projections
B12: Quarterly Units sold (years 1 and 2) | K12: Annual Units sold (years 3 to 6)
B13: Year 1 | F13: Year 2 | K13: Year 3 | L13: Year 4 | M13: Year 5 | N13: Year 6
B14: =StartDate -> 43831 | C14: =EDATE(B14,3) -> 43922 | D14: =EDATE(C14,3) -> 44013 | E14: =EDATE(D14,3) -> 44105 | F14: =EDATE(E14,3) -> 44197 | G14: =EDATE(F14,3) -> 44287 | H14: =EDATE(G14,3) -> 44378 | I14: =EDATE(H14,3) -> 44470 | K14: =EDATE(I14,3) -> 44562 | L14: =EDATE(K14,12) -> 44927 | M14: =EDATE(L14,12) -> 45292 | N14: =EDATE(M14,12) -> 45658
A15: =$B$5 -> Wonderfoal | F15: 1750 | G15: 1750 | H15: 1750 | I15: 1750 | K15: 14000 | L15: 21000 | M15: 28000 | N15: 35000
A16: =$F$5 -> NakotaStar | K16: 10000 | L16: 20000 | M16: 40000 | N16: 80000
A17: =$J$5 -> Product 3
Q19: Full Forecast - Annual (6 years)
A20: Bottom-up Revenue Projection
B21: Quarterly Projections - 2 years from start | K21: Annual Projections (years 3 to 6) | R21: Annual Projections
B22: Year 1 | F22: Year 2 | K22: Year 3 | L22: Year 4 | M22: Year 5 | N22: Year 6 | R22: Year 1 | S22: Year 2 | T22: Year 3 | U22: Year 4 | V22: Year 5 | W22: Year 6
B23: =StartDate -> 43831 | C23: =EDATE(B23,3) -> 43922 | D23: =EDATE(C23,3) -> 44013 | E23: =EDATE(D23,3) -> 44105 | F23: =EDATE(E23,3) -> 44197 | G23: =EDATE(F23,3) -> 44287 | H23: =EDATE(G23,3) -> 44378 | I23: =EDATE(H23,3) -> 44470 | K23: =EDATE(I23,3) -> 44562 | L23: =EDATE(K23,12) -> 44927 | M23: =EDATE(L23,12) -> 45292 | N23: =EDATE(M23,12) -> 45658 | R23: =B23 -> 43831 | S23: =F23 -> 44197 | T23: =K23 -> 44562 | U23: =EDATE(T23,12) -> 44927 | V23: =EDATE(U23,12) -> 45292 | W23: =EDATE(V23,12) -> 45658
A24: =$B$5 -> Wonderfoal | B24: =$B$9*B15 -> 0 | C24: =$B$9*C15 -> 0 | D24: =$B$9*D15 -> 0 | E24: =$B$9*E15 -> 0 | F24: =$B$9*F15 -> 578550 | G24: =$B$9*G15 -> 578550 | H24: =$B$9*H15 -> 578550 | I24: =$B$9*I15 -> 578550 | K24: =$B$9*K15 -> 4628400 | L24: =$B$9*L15 -> 6942600 | M24: =$B$9*M15 -> 9256800 | N24: =$B$9*N15 -> 11571000 | Q24: =A24 -> Wonderfoal | R24: =SUM(B24:E24) -> 0 | S24: =SUM(F24:I24) -> 2314200 | T24: =K24 -> 4628400 | U24: =L24 -> 6942600 | V24: =M24 -> 9256800 | W24: =N24 -> 11571000
A25: =$F$5 -> NakotaStar | B25: =$F$9*B16 -> 0 | C25: =$F$9*C16 -> 0 | D25: =$F$9*D16 -> 0 | E25: =$F$9*E16 -> 0 | F25: =$F$9*F16 -> 0 | G25: =$F$9*G16 -> 0 | H25: =$F$9*H16 -> 0 | I25: =$F$9*I16 -> 0 | K25: =$F$9*K16 -> 2964000 | L25: =$F$9*L16 -> 5928000 | M25: =$F$9*M16 -> 11856000 | N25: =$F$9*N16 -> 23712000 | Q25: =A25 -> NakotaStar | R25: =SUM(B25:E25) -> 0 | S25: =SUM(F25:I25) -> 0 | T25: =K25 -> 2964000 | U25: =L25 -> 5928000 | V25: =M25 -> 11856000 | W25: =N25 -> 23712000
A26: =$J$5 -> Product 3 | B26: =$F$9*B17 -> 0 | C26: =$J$6*C17*(1-$J$7)*(1-$J$8) -> 0 | D26: =$J$6*D17*(1-$J$7)*(1-$J$8) -> 0 | E26: =$J$6*E17*(1-$J$7)*(1-$J$8) -> 0 | F26: =$J$6*F17*(1-$J$7)*(1-$J$8) -> 0 | G26: =$J$6*G17*(1-$J$7)*(1-$J$8) -> 0 | H26: =$J$6*H17*(1-$J$7)*(1-$J$8) -> 0 | I26: =$J$6*I17*(1-$J$7)*(1-$J$8) -> 0 | K26: =$J$6*K17*(1-$J$7)*(1-$J$8) -> 0 | L26: =$J$6*L17*(1-$J$7)*(1-$J$8) -> 0 | M26: =$J$6*M17*(1-$J$7)*(1-$J$8) -> 0 | N26: =$J$6*N17*(1-$J$7)*(1-$J$8) -> 0 | Q26: =A26 -> Product 3 | R26: =SUM(B26:E26) -> 0 | S26: =SUM(F26:I26) -> 0 | T26: =K26 -> 0 | U26: =L26 -> 0 | V26: =M26 -> 0 | W26: =N26 -> 0
A27: Total | B27: =SUM(B24:B26) -> 0 | C27: =SUM(C24:C26) -> 0 | D27: =SUM(D24:D26) -> 0 | E27: =SUM(E24:E26) -> 0 | F27: =SUM(F24:F26) -> 578550 | G27: =SUM(G24:G26) -> 578550 | H27: =SUM(H24:H26) -> 578550 | I27: =SUM(I24:I26) -> 578550 | K27: =SUM(K24:K26) -> 7592400 | L27: =SUM(L24:L26) -> 12870600 | M27: =SUM(M24:M26) -> 21112800 | N27: =SUM(N24:N26) -> 35283000 | R27: =SUM(R24:R26) -> 0 | S27: =SUM(S24:S26) -> 2314200 | T27: =SUM(T24:T26) -> 7592400 | U27: =SUM(U24:U26) -> 12870600 | V27: =SUM(V24:V26) -> 21112800 | W27: =SUM(W24:W26) -> 35283000

Sheet Revenues
A1: Revenue Projections - Final | Q1: =CompanyName &" Revenue Forecast" -> WorkHorse Inc. Revenue Forecast
A2: ="Revenues ("&SubHeader&")" -> Revenues (USD)
Q3: First two years - Quarterly
A4: Method Choice
A5: Revenues | B5: Bottom-up
A7: Revenues can be projected using either of the following methods:
B8: Top-down
B9: Bottom-up
A12: Revenue Projection
B13: Quarterly Units sold (years 1 and 2) | K13: Annual Units sold (years 3 to 6)
B14: Year 1 | F14: Year 2 | K14: Year 3 | L14: Year 4 | M14: Year 5 | N14: Year 6
B15: =StartDate -> 43831 | C15: =EDATE(B15,3) -> 43922 | D15: =EDATE(C15,3) -> 44013 | E15: =EDATE(D15,3) -> 44105 | F15: =EDATE(E15,3) -> 44197 | G15: =EDATE(F15,3) -> 44287 | H15: =EDATE(G15,3) -> 44378 | I15: =EDATE(H15,3) -> 44470 | K15: =EDATE(I15,3) -> 44562 | L15: =EDATE(K15,12) -> 44927 | M15: =EDATE(L15,12) -> 45292 | N15: =EDATE(M15,12) -> 45658
A16: =IF($B$5="Bottom-up",'Bottom-Up'!A24,'Top-Down'!A42) -> Wonderfoal | B16: =IF($B$5="Bottom-up",'Bottom-Up'!B24,'Top-Down'!B42) -> 0 | C16: =IF($B$5="Bottom-up",'Bottom-Up'!C24,'Top-Down'!C42) -> 0 | D16: =IF($B$5="Bottom-up",'Bottom-Up'!D24,'Top-Down'!D42) -> 0 | E16: =IF($B$5="Bottom-up",'Bottom-Up'!E24,'Top-Down'!E42) -> 0 | F16: =IF($B$5="Bottom-up",'Bottom-Up'!F24,'Top-Down'!F42) -> 578550 | G16: =IF($B$5="Bottom-up",'Bottom-Up'!G24,'Top-Down'!G42) -> 578550 | H16: =IF($B$5="Bottom-up",'Bottom-Up'!H24,'Top-Down'!H42) -> 578550 | I16: =IF($B$5="Bottom-up",'Bottom-Up'!I24,'Top-Down'!I42) -> 578550 | K16: =IF($B$5="Bottom-up",'Bottom-Up'!K24,'Top-Down'!K42) -> 4628400 | L16: =IF($B$5="Bottom-up",'Bottom-Up'!L24,'Top-Down'!L42) -> 6942600 | M16: =IF($B$5="Bottom-up",'Bottom-Up'!M24,'Top-Down'!M42) -> 9256800 | N16: =IF($B$5="Bottom-up",'Bottom-Up'!N24,'Top-Down'!N42) -> 11571000
A17: =IF($B$5="Bottom-up",'Bottom-Up'!A25,'Top-Down'!A43) -> NakotaStar | B17: =IF($B$5="Bottom-up",'Bottom-Up'!B25,'Top-Down'!B43) -> 0 | C17: =IF($B$5="Bottom-up",'Bottom-Up'!C25,'Top-Down'!C43) -> 0 | D17: =IF($B$5="Bottom-up",'Bottom-Up'!D25,'Top-Down'!D43) -> 0 | E17: =IF($B$5="Bottom-up",'Bottom-Up'!E25,'Top-Down'!E43) -> 0 | F17: =IF($B$5="Bottom-up",'Bottom-Up'!F25,'Top-Down'!F43) -> 0 | G17: =IF($B$5="Bottom-up",'Bottom-Up'!G25,'Top-Down'!G43) -> 0 | H17: =IF($B$5="Bottom-up",'Bottom-Up'!H25,'Top-Down'!H43) -> 0 | I17: =IF($B$5="Bottom-up",'Bottom-Up'!I25,'Top-Down'!I43) -> 0 | K17: =IF($B$5="Bottom-up",'Bottom-Up'!K25,'Top-Down'!K43) -> 2964000 | L17: =IF($B$5="Bottom-up",'Bottom-Up'!L25,'Top-Down'!L43) -> 5928000 | M17: =IF($B$5="Bottom-up",'Bottom-Up'!M25,'Top-Down'!M43) -> 11856000 | N17: =IF($B$5="Bottom-up",'Bottom-Up'!N25,'Top-Down'!N43) -> 23712000
A18: =IF($B$5="Bottom-up",'Bottom-Up'!A26,'Top-Down'!A44) -> Product 3 | B18: =IF($B$5="Bottom-up",'Bottom-Up'!B26,'Top-Down'!B44) -> 0 | C18: =IF($B$5="Bottom-up",'Bottom-Up'!C26,'Top-Down'!C44) -> 0 | D18: =IF($B$5="Bottom-up",'Bottom-Up'!D26,'Top-Down'!D44) -> 0 | E18: =IF($B$5="Bottom-up",'Bottom-Up'!E26,'Top-Down'!E44) -> 0 | F18: =IF($B$5="Bottom-up",'Bottom-Up'!F26,'Top-Down'!F44) -> 0 | G18: =IF($B$5="Bottom-up",'Bottom-Up'!G26,'Top-Down'!G44) -> 0 | H18: =IF($B$5="Bottom-up",'Bottom-Up'!H26,'Top-Down'!H44) -> 0 | I18: =IF($B$5="Bottom-up",'Bottom-Up'!I26,'Top-Down'!I44) -> 0 | K18: =IF($B$5="Bottom-up",'Bottom-Up'!K26,'Top-Down'!K44) -> 0 | L18: =IF($B$5="Bottom-up",'Bottom-Up'!L26,'Top-Down'!L44) -> 0 | M18: =IF($B$5="Bottom-up",'Bottom-Up'!M26,'Top-Down'!M44) -> 0 | N18: =IF($B$5="Bottom-up",'Bottom-Up'!N26,'Top-Down'!N44) -> 0
A19: Total | B19: =SUM(B16:B18) -> 0 | C19: =SUM(C16:C18) -> 0 | D19: =SUM(D16:D18) -> 0 | E19: =SUM(E16:E18) -> 0 | F19: =SUM(F16:F18) -> 578550 | G19: =SUM(G16:G18) -> 578550 | H19: =SUM(H16:H18) -> 578550 | I19: =SUM(I16:I18) -> 578550 | K19: =SUM(K16:K18) -> 7592400 | L19: =SUM(L16:L18) -> 12870600 | M19: =SUM(M16:M18) -> 21112800 | N19: =SUM(N16:N18) -> 35283000
Q22: Full Forecast - Annual (6 years)
R24: Annual Projections
R25: Year 1 | S25: Year 2 | T25: Year 3 | U25: Year 4 | V25: Year 5 | W25: Year 6
R26: =B15 -> 43831 | S26: =F15 -> 44197 | T26: =K15 -> 44562 | U26: =EDATE(T26,12) -> 44927 | V26: =EDATE(U26,12) -> 45292 | W26: =EDATE(V26,12) -> 45658
Q27: =A16 -> Wonderfoal | R27: =SUM(B16:E16) -> 0 | S27: =SUM(F16:I16) -> 2314200 | T27: =K16 -> 4628400 | U27: =L16 -> 6942600 | V27: =M16 -> 9256800 | W27: =N16 -> 11571000
Q28: =A17 -> NakotaStar | R28: =SUM(B17:E17) -> 0 | S28: =SUM(F17:I17) -> 0 | T28: =K17 -> 2964000 | U28: =L17 -> 5928000 | V28: =M17 -> 11856000 | W28: =N17 -> 23712000
Q29: =A18 -> Product 3 | R29: =SUM(B18:E18) -> 0 | S29: =SUM(F18:I18) -> 0 | T29: =K18 -> 0 | U29: =L18 -> 0 | V29: =M18 -> 0 | W29: =N18 -> 0
R30: =SUM(R27:R29) -> 0 | S30: =SUM(S27:S29) -> 2314200 | T30: =SUM(T27:T29) -> 7592400 | U30: =SUM(U27:U29) -> 12870600 | V30: =SUM(V27:V29) -> 21112800 | W30: =SUM(W27:W29) -> 35283000

Sheet Costs ->

Sheet COGS
A1: Projected Cost of Good Sold (COGS) | Q1: =CompanyName &" COGS Forecast - Top-down" -> WorkHorse Inc. COGS Forecast - Top-down
A2: ="COGS ("&SubHeader&")" -> COGS (USD)
Q3: First two years - Quarterly
A4: Note: On Working Capital tab, the preferred method can be selected from:
B5: Bottom-up
B6: Top-down
A8: COGS Projection - Top-down
A10: Top-down Assumptions - Expected Gross Margin
B11: Wonderfoal | C11: Notes on assumptions | F11: NakotaStar | G11: Notes on assumptions | J11: =Revenues!A18 -> Product 3 | K11: Notes on assumptions
A12: Expected Gross Margin | B12: =(('Bottom-Up'!B9)-('Bottom-Up'!B6*0.25))/'Bottom-Up'!B9 -> 0.56140351 | C12: Based on market comparables | F12: =(('Bottom-Up'!F9)-('Bottom-Up'!F6*0.25))/'Bottom-Up'!F9 -> 0.34210526 | G12: Based on market comparables
A14: Top-down COGS Estimate
B15: Quarterly COGS (years 1 and 2) | K15: Annual COGS (years 3 to 6)
B16: Year 1 | F16: Year 2 | K16: Year 3 | L16: Year 4 | M16: Year 5 | N16: Year 6
B17: =StartDate -> 43831 | C17: =EDATE(B17,3) -> 43922 | D17: =EDATE(C17,3) -> 44013 | E17: =EDATE(D17,3) -> 44105 | F17: =EDATE(E17,3) -> 44197 | G17: =EDATE(F17,3) -> 44287 | H17: =EDATE(G17,3) -> 44378 | I17: =EDATE(H17,3) -> 44470 | K17: =EDATE(I17,3) -> 44562 | L17: =EDATE(K17,12) -> 44927 | M17: =EDATE(L17,12) -> 45292 | N17: =EDATE(M17,12) -> 45658
A18: =B11 -> Wonderfoal | B18: =Revenues!B16*(1-COGS!$B$12) -> 0 | C18: =Revenues!C16*(1-COGS!$B$12) -> 0 | D18: =Revenues!D16*(1-COGS!$B$12) -> 0 | E18: =Revenues!E16*(1-COGS!$B$12) -> 0 | F18: =Revenues!F16*(1-COGS!$B$12) -> 253750 | G18: =Revenues!G16*(1-COGS!$B$12) -> 253750 | H18: =Revenues!H16*(1-COGS!$B$12) -> 253750 | I18: =Revenues!I16*(1-COGS!$B$12) -> 253750 | K18: =Revenues!K16*(1-COGS!$B$12) -> 2030000 | L18: =Revenues!L16*(1-COGS!$B$12) -> 3045000 | M18: =Revenues!M16*(1-COGS!$B$12) -> 4060000 | N18: =Revenues!N16*(1-COGS!$B$12) -> 5075000
A19: =F11 -> NakotaStar | B19: =Revenues!B17*(1-COGS!$F$12) -> 0 | C19: =Revenues!C17*(1-COGS!$F$12) -> 0 | D19: =Revenues!D17*(1-COGS!$F$12) -> 0 | E19: =Revenues!E17*(1-COGS!$F$12) -> 0 | F19: =Revenues!F17*(1-COGS!$F$12) -> 0 | G19: =Revenues!G17*(1-COGS!$F$12) -> 0 | H19: =Revenues!H17*(1-COGS!$F$12) -> 0 | I19: =Revenues!I17*(1-COGS!$F$12) -> 0 | K19: =Revenues!K17*(1-COGS!$F$12) -> 1950000 | L19: =Revenues!L17*(1-COGS!$F$12) -> 3900000 | M19: =Revenues!M17*(1-COGS!$F$12) -> 7800000 | N19: =Revenues!N17*(1-COGS!$F$12) -> 15600000
A20: =J11 -> Product 3 | B20: =Revenues!B18*(1-COGS!$F$12) -> 0 | C20: =Revenues!C18*(1-COGS!$J$12) -> 0 | D20: =Revenues!D18*(1-COGS!$J$12) -> 0 | E20: =Revenues!E18*(1-COGS!$J$12) -> 0 | F20: =Revenues!F18*(1-COGS!$J$12) -> 0 | G20: =Revenues!G18*(1-COGS!$J$12) -> 0 | H20: =Revenues!H18*(1-COGS!$J$12) -> 0 | I20: =Revenues!I18*(1-COGS!$J$12) -> 0 | K20: =Revenues!K18*(1-COGS!$J$12) -> 0 | L20: =Revenues!L18*(1-COGS!$J$12) -> 0 | M20: =Revenues!M18*(1-COGS!$J$12) -> 0 | N20: =Revenues!N18*(1-COGS!$J$12) -> 0
A21: Total | B21: =SUM(B18:B20) -> 0 | C21: =SUM(C18:C20) -> 0 | D21: =SUM(D18:D20) -> 0 | E21: =SUM(E18:E20) -> 0 | F21: =SUM(F18:F20) -> 253750 | G21: =SUM(G18:G20) -> 253750 | H21: =SUM(H18:H20) -> 253750 | I21: =SUM(I18:I20) -> 253750 | K21: =SUM(K18:K20) -> 3980000 | L21: =SUM(L18:L20) -> 6945000 | M21: =SUM(M18:M20) -> 11860000 | N21: =SUM(N18:N20) -> 20675000
Q22: Full Forecast - Annual (6 years)
A24: COGS Projection - Bottom-up | R24: Annual Projections
R25: Year 1 | S25: Year 2 | T25: Year 3 | U25: Year 4 | V25: Year 5 | W25: Year 6
A26: ="Bottom-up Assumptions - Unit Costs to Manufacture (in "&SubHeader&")" -> Bottom-up Assumptions - Unit Costs to Manufacture (in USD) | R26: =B17 -> 43831 | S26: =F17 -> 44197 | T26: =K17 -> 44562 | U26: =EDATE(T26,12) -> 44927 | V26: =EDATE(U26,12) -> 45292 | W26: =EDATE(V26,12) -> 45658
B27: ='Bottom-Up'!B5 -> Wonderfoal | C27: Notes on assumptions | F27: ='Bottom-Up'!F5 -> NakotaStar | G27: Notes on assumptions | J27: ='Bottom-Up'!J5 -> Product 3 | K27: Notes on assumptions | Q27: =A18 -> Wonderfoal | R27: =SUM(B18:E18) -> 0 | S27: =SUM(F18:I18) -> 1015000 | T27: =K18 -> 2030000 | U27: =L18 -> 3045000 | V27: =M18 -> 4060000 | W27: =N18 -> 5075000
A28: Solar Panels | B28: 45 | F28: 55 | Q28: =A19 -> NakotaStar | R28: =SUM(B19:E19) -> 0 | S28: =SUM(F19:I19) -> 0 | T28: =K19 -> 1950000 | U28: =L19 -> 3900000 | V28: =M19 -> 7800000 | W28: =N19 -> 15600000
A29: Battery | B29: 35 | F29: 45 | Q29: =A20 -> Product 3 | R29: =SUM(B20:E20) -> 0 | S29: =SUM(F20:I20) -> 0 | T29: =K20 -> 0 | U29: =L20 -> 0 | V29: =M20 -> 0 | W29: =N20 -> 0
A30: Circuitry and Hardware | B30: 15 | F30: 25 | R30: =SUM(R27:R29) -> 0 | S30: =SUM(S27:S29) -> 1015000 | T30: =SUM(T27:T29) -> 3980000 | U30: =SUM(U27:U29) -> 6945000 | V30: =SUM(V27:V29) -> 11860000 | W30: =SUM(W27:W29) -> 20675000
A31: Assembly | B31: 20 | F31: 20
A32: Enclosure | B32: 8 | F32: 8
A33: Shipping | B33: 4 | F33: 4
A38: Total COGS per unit | B38: =SUM(B28:B37) -> 127 | F38: =SUM(F28:F37) -> 157 | J38: =SUM(J28:J37) -> 0
A40: Year of estimate | B40: 2020 | F40: 2020
A41: CAGR of COGS | B41: 0.04 | C41: Based on market comparables | F41: 0.04 | G41: Based on market comparables
A45: Bottom-up COGS Estimate
B46: Quarterly COGS (years 1 and 2) | K46: Annual COGS (years 3 to 6)
B47: Year 1 | F47: Year 2 | K47: Year 3 | L47: Year 4 | M47: Year 5 | N47: Year 6
B48: =StartDate -> 43831 | C48: =EDATE(B48,3) -> 43922 | D48: =EDATE(C48,3) -> 44013 | E48: =EDATE(D48,3) -> 44105 | F48: =EDATE(E48,3) -> 44197 | G48: =EDATE(F48,3) -> 44287 | H48: =EDATE(G48,3) -> 44378 | I48: =EDATE(H48,3) -> 44470 | K48: =EDATE(I48,3) -> 44562 | L48: =EDATE(K48,12) -> 44927 | M48: =EDATE(L48,12) -> 45292 | N48: =EDATE(M48,12) -> 45658
A49: =B27 -> Wonderfoal | B49: ='Bottom-Up'!B15*COGS!$B38*((1+$B$41)^(YEAR(B48)-$B$40)) -> 0 | C49: ='Bottom-Up'!C15*COGS!$B38*((1+$B$41)^(YEAR(C48)-$B$40)) -> 0 | D49: ='Bottom-Up'!D15*COGS!$B38*((1+$B$41)^(YEAR(D48)-$B$40)) -> 0 | E49: ='Bottom-Up'!E15*COGS!$B38*((1+$B$41)^(YEAR(E48)-$B$40)) -> 0 | F49: ='Bottom-Up'!F15*COGS!$B38*((1+$B$41)^(YEAR(F48)-$B$40)) -> 231140 | G49: ='Bottom-Up'!G15*COGS!$B38*((1+$B$41)^(YEAR(G48)-$B$40)) -> 231140 | H49: ='Bottom-Up'!H15*COGS!$B38*((1+$B$41)^(YEAR(H48)-$B$40)) -> 231140 | I49: ='Bottom-Up'!I15*COGS!$B38*((1+$B$41)^(YEAR(I48)-$B$40)) -> 231140 | K49: ='Bottom-Up'!K15*COGS!$B38*((1+$B$41)^(YEAR(K48)-$B$40)) -> 1923084.8 | L49: ='Bottom-Up'!L15*COGS!$B38*((1+$B$41)^(YEAR(L48)-$B$40)) -> 3000012.3 | M49: ='Bottom-Up'!M15*COGS!$B38*((1+$B$41)^(YEAR(M48)-$B$40)) -> 4160017 | N49: ='Bottom-Up'!N15*COGS!$B38*((1+$B$41)^(YEAR(N48)-$B$40)) -> 5408022.2
A50: =F27 -> NakotaStar | B50: ='Bottom-Up'!B16*COGS!$F38*((1+$F$41)^(YEAR(B48)-$F$40)) -> 0 | C50: ='Bottom-Up'!C16*COGS!$F38*((1+$F$41)^(YEAR(C48)-$F$40)) -> 0 | D50: ='Bottom-Up'!D16*COGS!$F38*((1+$F$41)^(YEAR(D48)-$F$40)) -> 0 | E50: ='Bottom-Up'!E16*COGS!$F38*((1+$F$41)^(YEAR(E48)-$F$40)) -> 0 | F50: ='Bottom-Up'!F16*COGS!$F38*((1+$F$41)^(YEAR(F48)-$F$40)) -> 0 | G50: ='Bottom-Up'!G16*COGS!$F38*((1+$F$41)^(YEAR(G48)-$F$40)) -> 0 | H50: ='Bottom-Up'!H16*COGS!$F38*((1+$F$41)^(YEAR(H48)-$F$40)) -> 0 | I50: ='Bottom-Up'!I16*COGS!$F38*((1+$F$41)^(YEAR(I48)-$F$40)) -> 0 | K50: ='Bottom-Up'!K16*COGS!$F38*((1+$F$41)^(YEAR(K48)-$F$40)) -> 1698112 | L50: ='Bottom-Up'!L16*COGS!$F38*((1+$F$41)^(YEAR(L48)-$F$40)) -> 3532073 | M50: ='Bottom-Up'!M16*COGS!$F38*((1+$F$41)^(YEAR(M48)-$F$40)) -> 7346711.8 | N50: ='Bottom-Up'!N16*COGS!$F38*((1+$F$41)^(YEAR(N48)-$F$40)) -> 15281160
A51: =J27 -> Product 3 | B51: ='Bottom-Up'!B17*COGS!$J38*((1+$J$41)^(YEAR(B48)-$J$40)) -> 0 | C51: ='Bottom-Up'!C17*COGS!$J38*((1+$J$41)^(YEAR(C48)-$J$40)) -> 0 | D51: ='Bottom-Up'!D17*COGS!$J38*((1+$J$41)^(YEAR(D48)-$J$40)) -> 0 | E51: ='Bottom-Up'!E17*COGS!$J38*((1+$J$41)^(YEAR(E48)-$J$40)) -> 0 | F51: ='Bottom-Up'!F17*COGS!$J38*((1+$J$41)^(YEAR(F48)-$J$40)) -> 0 | G51: ='Bottom-Up'!G17*COGS!$J38*((1+$J$41)^(YEAR(G48)-$J$40)) -> 0 | H51: ='Bottom-Up'!H17*COGS!$J38*((1+$J$41)^(YEAR(H48)-$J$40)) -> 0 | I51: ='Bottom-Up'!I17*COGS!$J38*((1+$J$41)^(YEAR(I48)-$J$40)) -> 0 | K51: ='Bottom-Up'!K17*COGS!$J38*((1+$J$41)^(YEAR(K48)-$J$40)) -> 0 | L51: ='Bottom-Up'!L17*COGS!$J38*((1+$J$41)^(YEAR(L48)-$J$40)) -> 0 | M51: ='Bottom-Up'!M17*COGS!$J38*((1+$J$41)^(YEAR(M48)-$J$40)) -> 0 | N51: ='Bottom-Up'!N17*COGS!$J38*((1+$J$41)^(YEAR(N48)-$J$40)) -> 0 | Q51: =CompanyName &" COGS Forecast - Bottom-up" -> WorkHorse Inc. COGS Forecast - Bottom-up
A52: Total | B52: =SUM(B49:B51) -> 0 | C52: =SUM(C49:C51) -> 0 | D52: =SUM(D49:D51) -> 0 | E52: =SUM(E49:E51) -> 0 | F52: =SUM(F49:F51) -> 231140 | G52: =SUM(G49:G51) -> 231140 | H52: =SUM(H49:H51) -> 231140 | I52: =SUM(I49:I51) -> 231140 | K52: =SUM(K49:K51) -> 3621196.8 | L52: =SUM(L49:L51) -> 6532085.2 | M52: =SUM(M49:M51) -> 11506729 | N52: =SUM(N49:N51) -> 20689183
...

Sheet Payroll
A1: Projected Payroll Costs | Q1: =CompanyName &" Projected Payroll Charts" -> WorkHorse Inc. Projected Payroll Charts
A2: ="Payroll ("&SubHeader&")" -> Payroll (USD)
Q3: First two years - Quarterly
A4: ="Assumptions - Annual Payroll Needs (costs in "&SubHeader&")" -> Assumptions - Annual Payroll Needs (costs in USD)
B5: Founders (first year) | C5: Notes on assumptions | F5: Founders (2021 onwards) | G5: Notes on assumptions | J5: Engineers | K5: Notes on assumptions
A6: Gross Pay | B6: 25000 | F6: 85000 | G6: Assumed that investors will go along with this | J6: 80000
A7: Employer Taxes | B7: =B6*0.15 -> 3750 | F7: =F6*0.15 -> 12750 | J7: =J6*0.15 -> 12000
A8: Employment Insurance | B8: =B6*0.05 -> 1250 | F8: =F6*0.05 -> 4250 | J8: =J6*0.05 -> 4000
A9: Pension | B9: =B6*0.02 -> 500 | F9: =F6*0.02 -> 1700 | J9: =J6*0.02 -> 1600
A10: Health Insurance | B10: =B6*0.07 -> 1750 | F10: =F6*0.07 -> 5950 | J10: =J6*0.07 -> 5600
A11: Other Benefits | B11: =B6*0.1 -> 2500 | C11: hiring costs and other benefits added here | F11: =F6*0.1 -> 8500 | J11: =J6*0.1 -> 8000
A12: Annual cost per person | B12: =SUM(B6:B11) -> 34750 | F12: =SUM(F6:F11) -> 118150 | J12: =SUM(J6:J11) -> 111200
B15: Sales | C15: Notes on assumptions | F15: Admin | G15: Notes on assumptions | J15: Finance | K15: Notes on assumptions
A16: Gross Pay | B16: 80000 | F16: 50000 | J16: 110000
A17: Employer Taxes | B17: =B16*0.15 -> 12000 | F17: =F16*0.15 -> 7500 | J17: =J16*0.15 -> 16500
A18: Employment Insurance | B18: =B16*0.05 -> 4000 | F18: =F16*0.05 -> 2500 | J18: =J16*0.05 -> 5500
A19: Pension | B19: =B16*0.02 -> 1600 | F19: =F16*0.02 -> 1000 | J19: =J16*0.02 -> 2200
A20: Health Insurance | B20: =B16*0.07 -> 5600 | F20: =F16*0.07 -> 3500 | J20: =J16*0.07 -> 7700
A21: Other Benefits | B21: =B16*0.1 -> 8000 | F21: =F16*0.1 -> 5000 | J21: =J16*0.1 -> 11000 | Q21: Full Forecast - Annual (6 years)
A22: Annual cost per person | B22: =SUM(B16:B21) -> 111200 | F22: =SUM(F16:F21) -> 69500 | J22: =SUM(J16:J21) -> 152900
R23: Annual Projections
R24: Year 1 | S24: Year 2 | T24: Year 3 | U24: Year 4 | V24: Year 5 | W24: Year 6
R25: =B42 -> 43831 | S25: =F42 -> 44197 | T25: =K42 -> 44562 | U25: =EDATE(T25,12) -> 44927 | V25: =EDATE(U25,12) -> 45292 | W25: =EDATE(V25,12) -> 45658
A26: Assumptions - Number of persons employed | Q26: =A43 -> Founders (first year) | R26: =SUM(B43:E43) -> 139000 | S26: =SUM(F43:I43) -> 0 | T26: =K43 -> 0 | U26: =L43 -> 0 | V26: =M43 -> 0 | W26: =N43 -> 0
B27: Count of Employees by Quarter (years 1 and 2) | K27: Count of Employees by year (years 3 to 6) | Q27: =A44 -> Founders (2021 onwards) | R27: =SUM(B44:E44) -> 0 | S27: =SUM(F44:I44) -> 472600 | T27: =K44 -> 472600 | U27: =L44 -> 472600 | V27: =M44 -> 472600 | W27: =N44 -> 472600
B28: Year 1 | F28: Year 2 | K28: Year 3 | L28: Year 4 | M28: Year 5 | N28: Year 6 | Q28: =A45 -> Engineers | R28: =SUM(B45:E45) -> 55600 | S28: =SUM(F45:I45) -> 417000 | T28: =K45 -> 667200 | U28: =L45 -> 889600 | V28: =M45 -> 1112000 | W28: =N45 -> 1334400
B29: =StartDate -> 43831 | C29: =EDATE(B29,3) -> 43922 | D29: =EDATE(C29,3) -> 44013 | E29: =EDATE(D29,3) -> 44105 | F29: =EDATE(E29,3) -> 44197 | G29: =EDATE(F29,3) -> 44287 | H29: =EDATE(G29,3) -> 44378 | I29: =EDATE(H29,3) -> 44470 | K29: =EDATE(I29,3) -> 44562 | L29: =EDATE(K29,12) -> 44927 | M29: =EDATE(L29,12) -> 45292 | N29: =EDATE(M29,12) -> 45658 | Q29: =A46 -> Sales | R29: =SUM(B46:E46) -> 27800 | S29: =SUM(F46:I46) -> 361400 | T29: =K46 -> 667200 | U29: =L46 -> 1223200 | V29: =M46 -> 1556800 | W29: =N46 -> 1668000
A30: =B5 -> Founders (first year) | B30: 4 | C30: 4 | D30: 4 | E30: 4 | Q30: =A47 -> Admin | R30: =SUM(B47:E47) -> 0 | S30: =SUM(F47:I47) -> 121625 | T30: =K47 -> 278000 | U30: =L47 -> 486500 | V30: =M47 -> 556000 | W30: =N47 -> 625500
A31: =F5 -> Founders (2021 onwards) | F31: 4 | G31: 4 | H31: 4 | I31: 4 | K31: 4 | L31: 4 | M31: 4 | N31: 4 | Q31: =A48 -> Finance | R31: =SUM(B48:E48) -> 0 | S31: =SUM(F48:I48) -> 114675 | T31: =K48 -> 305800 | U31: =L48 -> 458700 | V31: =M48 -> 458700 | W31: =N48 -> 458700
A32: =J5 -> Engineers | D32: 1 | E32: 1 | F32: 3 | G32: 3 | H32: 4 | I32: 5 | K32: 6 | L32: 8 | M32: 10 | N32: 12 | R32: =SUM(R26:R31) -> 222400 | S32: =SUM(S26:S31) -> 1487300 | T32: =SUM(T26:T31) -> 2390800 | U32: =SUM(U26:U31) -> 3530600 | V32: =SUM(V26:V31) -> 4156100 | W32: =SUM(W26:W31) -> 4559200
A33: =B15 -> Sales | E33: 1 | F33: 2 | G33: 3 | H33: 3 | I33: 5 | K33: 6 | L33: 11 | M33: 14 | N33: 15
A34: =F15 -> Admin | F34: 1 | G34: 1 | H34: 2 | I34: 3 | K34: 4 | L34: 7 | M34: 8 | N34: 9
A35: =J15 -> Finance | G35: 1 | H35: 1 | I35: 1 | K35: 2 | L35: 3 | M35: 3 | N35: 3
A36: Total | B36: =SUM(B30:B35) -> 4 | C36: =SUM(C30:C35) -> 4 | D36: =SUM(D30:D35) -> 5 | E36: =SUM(E30:E35) -> 6 | F36: =SUM(F30:F35) -> 10 | G36: =SUM(G30:G35) -> 12 | H36: =SUM(H30:H35) -> 14 | I36: =SUM(I30:I35) -> 18 | K36: =SUM(K30:K35) -> 22 | L36: =SUM(L30:L35) -> 33 | M36: =SUM(M30:M35) -> 39 | N36: =SUM(N30:N35) -> 43
A39: Total Payroll Costs
B40: Quarterly Payroll Costs (years 1 and 2) | K40: Annual Payroll Costs (years 3 to 6)
B41: Year 1 | F41: Year 2 | K41: Year 3 | L41: Year 4 | M41: Year 5 | N41: Year 6
B42: =StartDate -> 43831 | C42: =EDATE(B42,3) -> 43922 | D42: =EDATE(C42,3) -> 44013 | E42: =EDATE(D42,3) -> 44105 | F42: =EDATE(E42,3) -> 44197 | G42: =EDATE(F42,3) -> 44287 | H42: =EDATE(G42,3) -> 44378 | I42: =EDATE(H42,3) -> 44470 | K42: =EDATE(I42,3) -> 44562 | L42: =EDATE(K42,12) -> 44927 | M42: =EDATE(L42,12) -> 45292 | N42: =EDATE(M42,12) -> 45658
A43: =A30 -> Founders (first year) | B43: =$B$12*B30/4 -> 34750 | C43: =$B$12*C30/4 -> 34750 | D43: =$B$12*D30/4 -> 34750 | E43: =$B$12*E30/4 -> 34750 | F43: =$B$12*F30/4 -> 0 | G43: =$B$12*G30/4 -> 0 | H43: =$B$12*H30/4 -> 0 | I43: =$B$12*I30/4 -> 0 | K43: =$B$12*K30 -> 0 | L43: =$B$12*L30 -> 0 | M43: =$B$12*M30 -> 0 | N43: =$B$12*N30 -> 0
A44: =A31 -> Founders (2021 onwards) | B44: =$F$12*B31/4 -> 0 | C44: =$F$12*C31/4 -> 0 | D44: =$F$12*D31/4 -> 0 | E44: =$F$12*E31/4 -> 0 | F44: =$F$12*F31/4 -> 118150 | G44: =$F$12*G31/4 -> 118150 | H44: =$F$12*H31/4 -> 118150 | I44: =$F$12*I31/4 -> 118150 | K44: =$F$12*K31 -> 472600 | L44: =$F$12*L31 -> 472600 | M44: =$F$12*M31 -> 472600 | N44: =$F$12*N31 -> 472600
...

Sheet Other Operating Expenses
A1: Other Operating Expenses Projections | Q1: =CompanyName &" Projected Operating Costs Chart" -> WorkHorse Inc. Projected Operating Costs Chart
A2: ="Operating Expenses ("&SubHeader&")" -> Operating Expenses (USD)
Q3: First two years - Quarterly
A4: Assumptions - Costs and Growth Rates
B5: Annual Cost | C5: CAGR | D5: Notes on assumptions
A6: Professional Services | B6: 20000 | C6: 0.15 | D6: Accounting, Legal, etc.
A7: Office | B7: 25000 | C7: 0.1 | D7: Rent of Office and laboratory
A8: R&D Expenses | B8: 90000 | C8: 0.8 | D8: Excluding Capex. Reliance on innovation, projected rapid increase in R&D
A9: Sales and Marketing | B9: 30000 | C9: 0.8 | D9: Training, Materials, Advertising
A10: Travel | B10: 20000 | C10: 0.2 | D10: Economy fair only
A11: Administrative | B11: 5000 | C11: 0.1 | D11: Insurance, Office Supplies, etc.
A12: Other costs | B12: 7000 | C12: 0.1 | D12: All other costs
A15: Operating Expenses Projection
B16: Quarterly Operating Costs (years 1 and 2) | K16: Annual Operating Costs (years 3 to 6)
B17: Year 1 | F17: Year 2 | K17: Year 3 | L17: Year 4 | M17: Year 5 | N17: Year 6
B18: =StartDate -> 43831 | C18: =EDATE(B18,3) -> 43922 | D18: =EDATE(C18,3) -> 44013 | E18: =EDATE(D18,3) -> 44105 | F18: =EDATE(E18,3) -> 44197 | G18: =EDATE(F18,3) -> 44287 | H18: =EDATE(G18,3) -> 44378 | I18: =EDATE(H18,3) -> 44470 | K18: =EDATE(I18,3) -> 44562 | L18: =EDATE(K18,12) -> 44927 | M18: =EDATE(L18,12) -> 45292 | N18: =EDATE(M18,12) -> 45658
A19: Initial Startup costs | B19: 0 | C19: 0 | D19: 0 | E19: 0 | F19: 0 | G19: 0 | H19: 0 | I19: 0 | K19: 0 | L19: 0 | M19: 0 | N19: 0
A20: =A6 -> Professional Services | B20: =$B6*(1+$C6)^(YEAR(B$18)-YEAR($B$18))/4 -> 5000 | C20: =$B6*(1+$C6)^(YEAR(C$18)-YEAR($B$18))/4 -> 5000 | D20: =$B6*(1+$C6)^(YEAR(D$18)-YEAR($B$18))/4 -> 5000 | E20: =$B6*(1+$C6)^(YEAR(E$18)-YEAR($B$18))/4 -> 5000 | F20: =$B6*(1+$C6)^(YEAR(F$18)-YEAR($B$18))/4 -> 5750 | G20: =$B6*(1+$C6)^(YEAR(G$18)-YEAR($B$18))/4 -> 5750 | H20: =$B6*(1+$C6)^(YEAR(H$18)-YEAR($B$18))/4 -> 5750 | I20: =$B6*(1+$C6)^(YEAR(I$18)-YEAR($B$18))/4 -> 5750 | K20: =$B6*(1+$C6)^(YEAR(K$18)-YEAR($B$18)) -> 26450 | L20: =$B6*(1+$C6)^(YEAR(L$18)-YEAR($B$18)) -> 30417.5 | M20: =$B6*(1+$C6)^(YEAR(M$18)-YEAR($B$18)) -> 34980.125 | N20: =$B6*(1+$C6)^(YEAR(N$18)-YEAR($B$18)) -> 40227.144
A21: =A7 -> Office | B21: =$B7*(1+$C7)^(YEAR(B$18)-YEAR($B$18))/4 -> 6250 | C21: =$B7*(1+$C7)^(YEAR(C$18)-YEAR($B$18))/4 -> 6250 | D21: =$B7*(1+$C7)^(YEAR(D$18)-YEAR($B$18))/4 -> 6250 | E21: =$B7*(1+$C7)^(YEAR(E$18)-YEAR($B$18))/4 -> 6250 | F21: =$B7*(1+$C7)^(YEAR(F$18)-YEAR($B$18))/4 -> 6875 | G21: =$B7*(1+$C7)^(YEAR(G$18)-YEAR($B$18))/4 -> 6875 | H21: =$B7*(1+$C7)^(YEAR(H$18)-YEAR($B$18))/4 -> 6875 | I21: =$B7*(1+$C7)^(YEAR(I$18)-YEAR($B$18))/4 -> 6875 | K21: =$B7*(1+$C7)^(YEAR(K$18)-YEAR($B$18)) -> 30250 | L21: =$B7*(1+$C7)^(YEAR(L$18)-YEAR($B$18)) -> 33275 | M21: =$B7*(1+$C7)^(YEAR(M$18)-YEAR($B$18)) -> 36602.5 | N21: =$B7*(1+$C7)^(YEAR(N$18)-YEAR($B$18)) -> 40262.75 | Q21: Full Forecast - Annual (6 years)
A22: =A8 -> R&D Expenses | B22: =$B8*(1+$C8)^(YEAR(B$18)-YEAR($B$18))/4 -> 22500 | C22: =$B8*(1+$C8)^(YEAR(C$18)-YEAR($B$18))/4 -> 22500 | D22: =$B8*(1+$C8)^(YEAR(D$18)-YEAR($B$18))/4 -> 22500 | E22: =$B8*(1+$C8)^(YEAR(E$18)-YEAR($B$18))/4 -> 22500 | F22: =$B8*(1+$C8)^(YEAR(F$18)-YEAR($B$18))/4 -> 40500 | G22: =$B8*(1+$C8)^(YEAR(G$18)-YEAR($B$18))/4 -> 40500 | H22: =$B8*(1+$C8)^(YEAR(H$18)-YEAR($B$18))/4 -> 40500 | I22: =$B8*(1+$C8)^(YEAR(I$18)-YEAR($B$18))/4 -> 40500 | K22: =$B8*(1+$C8)^(YEAR(K$18)-YEAR($B$18)) -> 291600 | L22: =$B8*(1+$C8)^(YEAR(L$18)-YEAR($B$18)) -> 524880 | M22: =$B8*(1+$C8)^(YEAR(M$18)-YEAR($B$18)) -> 944784 | N22: =$B8*(1+$C8)^(YEAR(N$18)-YEAR($B$18)) -> 1700611.2
A23: =A9 -> Sales and Marketing | B23: =$B9*(1+$C9)^(YEAR(B$18)-YEAR($B$18))/4 -> 7500 | C23: =$B9*(1+$C9)^(YEAR(C$18)-YEAR($B$18))/4 -> 7500 | D23: =$B9*(1+$C9)^(YEAR(D$18)-YEAR($B$18))/4 -> 7500 | E23: =$B9*(1+$C9)^(YEAR(E$18)-YEAR($B$18))/4 -> 7500 | F23: =$B9*(1+$C9)^(YEAR(F$18)-YEAR($B$18))/4 -> 13500 | G23: =$B9*(1+$C9)^(YEAR(G$18)-YEAR($B$18))/4 -> 13500 | H23: =$B9*(1+$C9)^(YEAR(H$18)-YEAR($B$18))/4 -> 13500 | I23: =$B9*(1+$C9)^(YEAR(I$18)-YEAR($B$18))/4 -> 13500 | K23: =$B9*(1+$C9)^(YEAR(K$18)-YEAR($B$18)) -> 97200 | L23: =$B9*(1+$C9)^(YEAR(L$18)-YEAR($B$18)) -> 174960 | M23: =$B9*(1+$C9)^(YEAR(M$18)-YEAR($B$18)) -> 314928 | N23: =$B9*(1+$C9)^(YEAR(N$18)-YEAR($B$18)) -> 566870.4 | R23: Annual Projections
A24: =A10 -> Travel | B24: =$B10*(1+$C10)^(YEAR(B$18)-YEAR($B$18))/4 -> 5000 | C24: =$B10*(1+$C10)^(YEAR(C$18)-YEAR($B$18))/4 -> 5000 | D24: =$B10*(1+$C10)^(YEAR(D$18)-YEAR($B$18))/4 -> 5000 | E24: =$B10*(1+$C10)^(YEAR(E$18)-YEAR($B$18))/4 -> 5000 | F24: =$B10*(1+$C10)^(YEAR(F$18)-YEAR($B$18))/4 -> 6000 | G24: =$B10*(1+$C10)^(YEAR(G$18)-YEAR($B$18))/4 -> 6000 | H24: =$B10*(1+$C10)^(YEAR(H$18)-YEAR($B$18))/4 -> 6000 | I24: =$B10*(1+$C10)^(YEAR(I$18)-YEAR($B$18))/4 -> 6000 | K24: =$B10*(1+$C10)^(YEAR(K$18)-YEAR($B$18)) -> 28800 | L24: =$B10*(1+$C10)^(YEAR(L$18)-YEAR($B$18)) -> 34560 | M24: =$B10*(1+$C10)^(YEAR(M$18)-YEAR($B$18)) -> 41472 | N24: =$B10*(1+$C10)^(YEAR(N$18)-YEAR($B$18)) -> 49766.4 | R24: Year 1 | S24: Year 2 | T24: Year 3 | U24: Year 4 | V24: Year 5 | W24: Year 6
A25: =A11 -> Administrative | B25: =$B11*(1+$C11)^(YEAR(B$18)-YEAR($B$18))/4 -> 1250 | C25: =$B11*(1+$C11)^(YEAR(C$18)-YEAR($B$18))/4 -> 1250 | D25: =$B11*(1+$C11)^(YEAR(D$18)-YEAR($B$18))/4 -> 1250 | E25: =$B11*(1+$C11)^(YEAR(E$18)-YEAR($B$18))/4 -> 1250 | F25: =$B11*(1+$C11)^(YEAR(F$18)-YEAR($B$18))/4 -> 1375 | G25: =$B11*(1+$C11)^(YEAR(G$18)-YEAR($B$18))/4 -> 1375 | H25: =$B11*(1+$C11)^(YEAR(H$18)-YEAR($B$18))/4 -> 1375 | I25: =$B11*(1+$C11)^(YEAR(I$18)-YEAR($B$18))/4 -> 1375 | K25: =$B11*(1+$C11)^(YEAR(K$18)-YEAR($B$18)) -> 6050 | L25: =$B11*(1+$C11)^(YEAR(L$18)-YEAR($B$18)) -> 6655 | M25: =$B11*(1+$C11)^(YEAR(M$18)-YEAR($B$18)) -> 7320.5 | N25: =$B11*(1+$C11)^(YEAR(N$18)-YEAR($B$18)) -> 8052.55 | R25: =B18 -> 43831 | S25: =F18 -> 44197 | T25: =K18 -> 44562 | U25: =L18 -> 44927 | V25: =M18 -> 45292 | W25: =N18 -> 45658
A26: =A12 -> Other costs | B26: =$B12*(1+$C12)^(YEAR(B$18)-YEAR($B$18))/4 -> 1750 | C26: =$B12*(1+$C12)^(YEAR(C$18)-YEAR($B$18))/4 -> 1750 | D26: =$B12*(1+$C12)^(YEAR(D$18)-YEAR($B$18))/4 -> 1750 | E26: =$B12*(1+$C12)^(YEAR(E$18)-YEAR($B$18))/4 -> 1750 | F26: =$B12*(1+$C12)^(YEAR(F$18)-YEAR($B$18))/4 -> 1925 | G26: =$B12*(1+$C12)^(YEAR(G$18)-YEAR($B$18))/4 -> 1925 | H26: =$B12*(1+$C12)^(YEAR(H$18)-YEAR($B$18))/4 -> 1925 | I26: =$B12*(1+$C12)^(YEAR(I$18)-YEAR($B$18))/4 -> 1925 | K26: =$B12*(1+$C12)^(YEAR(K$18)-YEAR($B$18)) -> 8470 | L26: =$B12*(1+$C12)^(YEAR(L$18)-YEAR($B$18)) -> 9317 | M26: =$B12*(1+$C12)^(YEAR(M$18)-YEAR($B$18)) -> 10248.7 | N26: =$B12*(1+$C12)^(YEAR(N$18)-YEAR($B$18)) -> 11273.57 | Q26: =A19 -> Initial Startup costs | R26: =SUM(B19:E19) -> 0 | S26: =SUM(F19:I19) -> 0 | T26: =K19 -> 0 | U26: =L19 -> 0 | V26: =M19 -> 0 | W26: =N19 -> 0
A27: Total | B27: =SUM(B19:B26) -> 49250 | C27: =SUM(C19:C26) -> 49250 | D27: =SUM(D19:D26) -> 49250 | E27: =SUM(E19:E26) -> 49250 | F27: =SUM(F19:F26) -> 75925 | G27: =SUM(G19:G26) -> 75925 | H27: =SUM(H19:H26) -> 75925 | I27: =SUM(I19:I26) -> 75925 | K27: =SUM(K19:K26) -> 488820 | L27: =SUM(L19:L26) -> 814064.5 | M27: =SUM(M19:M26) -> 1390335.8 | N27: =SUM(N19:N26) -> 2417064 | Q27: =A20 -> Professional Services | R27: =SUM(B20:E20) -> 20000 | S27: =SUM(F20:I20) -> 23000 | T27: =K20 -> 26450 | U27: =L20 -> 30417.5 | V27: =M20 -> 34980.125 | W27: =N20 -> 40227.144
Q28: =A21 -> Office | R28: =SUM(B21:E21) -> 25000 | S28: =SUM(F21:I21) -> 27500 | T28: =K21 -> 30250 | U28: =L21 -> 33275 | V28: =M21 -> 36602.5 | W28: =N21 -> 40262.75
Q29: =A22 -> R&D Expenses | R29: =SUM(B22:E22) -> 90000 | S29: =SUM(F22:I22) -> 162000 | T29: =K22 -> 291600 | U29: =L22 -> 524880 | V29: =M22 -> 944784 | W29: =N22 -> 1700611.2
A30: Other Expenses | Q30: =A23 -> Sales and Marketing | R30: =SUM(B23:E23) -> 30000 | S30: =SUM(F23:I23) -> 54000 | T30: =K23 -> 97200 | U30: =L23 -> 174960 | V30: =M23 -> 314928 | W30: =N23 -> 566870.4
A31: Corporate Tax Rate | B31: 0.25 | C31: Assumption: Blended U.S. federal 21% + Michigan state (manufacturing place) ~4% | Q31: =A24 -> Travel | R31: =SUM(B24:E24) -> 20000 | S31: =SUM(F24:I24) -> 24000 | T31: =K24 -> 28800 | U31: =L24 -> 34560 | V31: =M24 -> 41472 | W31: =N24 -> 49766.4
A32: Tax on Profit over | B32: 100000 | C32: per year | Q32: =A25 -> Administrative | R32: =SUM(B25:E25) -> 5000 | S32: =SUM(F25:I25) -> 5500 | T32: =K25 -> 6050 | U32: =L25 -> 6655 | V32: =M25 -> 7320.5 | W32: =N25 -> 8052.55
Q33: =A26 -> Other costs | R33: =SUM(B26:E26) -> 7000 | S33: =SUM(F26:I26) -> 7700 | T33: =K26 -> 8470 | U33: =L26 -> 9317 | V33: =M26 -> 10248.7 | W33: =N26 -> 11273.57
Q34: =A27 -> Total | R34: =SUM(R26:R33) -> 197000 | S34: =SUM(S26:S33) -> 303700 | T34: =SUM(T26:T33) -> 488820 | U34: =SUM(U26:U33) -> 814064.5 | V34: =SUM(V26:V33) -> 1390335.8 | W34: =SUM(W26:W33) -> 2417064

Sheet Capital Expenses
A1: Capital Expenditure Projections | Q1: =CompanyName &" Projected Capital Expenditure Annualised" -> WorkHorse Inc. Projected Capital Expenditure Annualised | Z1: =CompanyName &" Projected Capital Expenditure Charts" -> WorkHorse Inc. Projected Capital Expenditure Charts
A2: ="Capital Expenditure ("&SubHeader&")" -> Capital Expenditure (USD)
A4: Capital Expenses - Items, value, and ownership length
B5: Cost | C5: Date of Purchase | D5: Ownership length (years) | E5: Value at end of ownership | F5: Notes on assumptions
A6: Lab Tools | B6: 6000 | C6: 44075 | D6: 7
A7: Product Testing Unit | B7: 20000 | C7: 44136 | D7: 6 | E7: 5000
A8: Office Furniture | B8: 3000 | C8: 44136 | D8: 5
A9: Company Vehicle | B9: 35000 | C9: 44348 | D9: 5 | E9: 5000
A10: High Cap. Testing Unit | B10: 55000 | C10: 44378 | D10: 6 | E10: 13000
A11: Office Furniture | B11: 8000 | C11: 44409 | D11: 5
A12: Storage Racks | B12: 3000 | C12: 44652 | D12: 5
A13: New Lab Tools | B13: 15000 | C13: 45017 | D13: 7
A14: Company Vehicle | B14: 45000 | C14: 45901 | D14: 5 | E14: 7000
A19: Capital Expenditure - Impact on Income Statement (Depreciation & Amortization) | Q19: =A19 -> Capital Expenditure - Impact on Income Statement (Depreciation & Amortization)
B20: Quarterly CapEx (years 1 and 2) | K20: Annual CapEx (years 3 to 6) | Q20: Full Forecast - Annual (6 years)
B21: Year 1 | F21: Year 2 | K21: Year 3 | L21: Year 4 | M21: Year 5 | N21: Year 6 | R21: Annual Projections
B22: =StartDate -> 43831 | C22: =EDATE(B22,3) -> 43922 | D22: =EDATE(C22,3) -> 44013 | E22: =EDATE(D22,3) -> 44105 | F22: =EDATE(E22,3) -> 44197 | G22: =EDATE(F22,3) -> 44287 | H22: =EDATE(G22,3) -> 44378 | I22: =EDATE(H22,3) -> 44470 | K22: =EDATE(I22,3) -> 44562 | L22: =EDATE(K22,12) -> 44927 | M22: =EDATE(L22,12) -> 45292 | N22: =EDATE(M22,12) -> 45658 | R22: Year 1 | S22: Year 2 | T22: Year 3 | U22: Year 4 | V22: Year 5 | W22: Year 6
A23: =A41 -> Lab Tools | B23: =IF(B59>0,$B6/$D6/4,0) -> 0 | C23: =IF(C59>0,$B6/$D6/4,0) -> 0 | D23: =IF(D59>0,$B6/$D6/4,0) -> 214.28571 | E23: =IF(E59>0,$B6/$D6/4,0) -> 214.28571 | F23: =IF(F59>0,$B6/$D6/4,0) -> 214.28571 | G23: =IF(G59>0,$B6/$D6/4,0) -> 214.28571 | H23: =IF(H59>0,$B6/$D6/4,0) -> 214.28571 | I23: =IF(I59>0,$B6/$D6/4,0) -> 214.28571 | K23: =IF(K59>0,$B6/$D6,0) -> 857.14286 | L23: =IF(L59>0,$B6/$D6,0) -> 857.14286 | M23: =IF(M59>0,$B6/$D6,0) -> 857.14286 | N23: =IF(N59>0,$B6/$D6,0) -> 857.14286 | R23: =B22 -> 43831 | S23: =F22 -> 44197 | T23: =K22 -> 44562 | U23: =L22 -> 44927 | V23: =M22 -> 45292 | W23: =N22 -> 45658
A24: =A42 -> Product Testing Unit | B24: =IF(B60>0,$B7/$D7/4,0) -> 0 | C24: =IF(C60>0,$B7/$D7/4,0) -> 0 | D24: =IF(D60>0,$B7/$D7/4,0) -> 0 | E24: =IF(E60>0,$B7/$D7/4,0) -> 833.33333 | F24: =IF(F60>0,$B7/$D7/4,0) -> 833.33333 | G24: =IF(G60>0,$B7/$D7/4,0) -> 833.33333 | H24: =IF(H60>0,$B7/$D7/4,0) -> 833.33333 | I24: =IF(I60>0,$B7/$D7/4,0) -> 833.33333 | K24: =IF(K60>0,$B7/$D7,0) -> 3333.3333 | L24: =IF(L60>0,$B7/$D7,0) -> 3333.3333 | M24: =IF(M60>0,$B7/$D7,0) -> 3333.3333 | N24: =IF(N60>0,$B7/$D7,0) -> 3333.3333 | Q24: =A23 -> Lab Tools | R24: =SUM(B23:E23) -> 428.57143 | S24: =SUM(F23:I23) -> 857.14286 | T24: =K23 -> 857.14286 | U24: =L23 -> 857.14286 | V24: =M23 -> 857.14286 | W24: =N23 -> 857.14286
A25: =A43 -> Office Furniture | B25: =IF(B61>0,$B8/$D8/4,0) -> 0 | C25: =IF(C61>0,$B8/$D8/4,0) -> 0 | D25: =IF(D61>0,$B8/$D8/4,0) -> 0 | E25: =IF(E61>0,$B8/$D8/4,0) -> 150 | F25: =IF(F61>0,$B8/$D8/4,0) -> 150 | G25: =IF(G61>0,$B8/$D8/4,0) -> 150 | H25: =IF(H61>0,$B8/$D8/4,0) -> 150 | I25: =IF(I61>0,$B8/$D8/4,0) -> 150 | K25: =IF(K61>0,$B8/$D8,0) -> 600 | L25: =IF(L61>0,$B8/$D8,0) -> 600 | M25: =IF(M61>0,$B8/$D8,0) -> 600 | N25: =IF(N61>0,$B8/$D8,0) -> 600 | Q25: =A24 -> Product Testing Unit | R25: =SUM(B24:E24) -> 833.33333 | S25: =SUM(F24:I24) -> 3333.3333 | T25: =K24 -> 3333.3333 | U25: =L24 -> 3333.3333 | V25: =M24 -> 3333.3333 | W25: =N24 -> 3333.3333
A26: =A44 -> Company Vehicle | B26: =IF(B62>0,$B9/$D9/4,0) -> 0 | C26: =IF(C62>0,$B9/$D9/4,0) -> 0 | D26: =IF(D62>0,$B9/$D9/4,0) -> 0 | E26: =IF(E62>0,$B9/$D9/4,0) -> 0 | F26: =IF(F62>0,$B9/$D9/4,0) -> 0 | G26: =IF(G62>0,$B9/$D9/4,0) -> 1750 | H26: =IF(H62>0,$B9/$D9/4,0) -> 1750 | I26: =IF(I62>0,$B9/$D9/4,0) -> 1750 | K26: =IF(K62>0,$B9/$D9,0) -> 7000 | L26: =IF(L62>0,$B9/$D9,0) -> 7000 | M26: =IF(M62>0,$B9/$D9,0) -> 7000 | N26: =IF(N62>0,$B9/$D9,0) -> 7000 | Q26: =A25 -> Office Furniture | R26: =SUM(B25:E25) -> 150 | S26: =SUM(F25:I25) -> 600 | T26: =K25 -> 600 | U26: =L25 -> 600 | V26: =M25 -> 600 | W26: =N25 -> 600
A27: =A45 -> High Cap. Testing Unit | B27: =IF(B63>0,$B10/$D10/4,0) -> 0 | C27: =IF(C63>0,$B10/$D10/4,0) -> 0 | D27: =IF(D63>0,$B10/$D10/4,0) -> 0 | E27: =IF(E63>0,$B10/$D10/4,0) -> 0 | F27: =IF(F63>0,$B10/$D10/4,0) -> 0 | G27: =IF(G63>0,$B10/$D10/4,0) -> 0 | H27: =IF(H63>0,$B10/$D10/4,0) -> 2291.6667 | I27: =IF(I63>0,$B10/$D10/4,0) -> 2291.6667 | K27: =IF(K63>0,$B10/$D10,0) -> 9166.6667 | L27: =IF(L63>0,$B10/$D10,0) -> 9166.6667 | M27: =IF(M63>0,$B10/$D10,0) -> 9166.6667 | N27: =IF(N63>0,$B10/$D10,0) -> 9166.6667 | Q27: =A26 -> Company Vehicle | R27: =SUM(B26:E26) -> 0 | S27: =SUM(F26:I26) -> 5250 | T27: =K26 -> 7000 | U27: =L26 -> 7000 | V27: =M26 -> 7000 | W27: =N26 -> 7000
A28: =A46 -> Office Furniture | B28: =IF(B64>0,$B11/$D11/4,0) -> 0 | C28: =IF(C64>0,$B11/$D11/4,0) -> 0 | D28: =IF(D64>0,$B11/$D11/4,0) -> 0 | E28: =IF(E64>0,$B11/$D11/4,0) -> 0 | F28: =IF(F64>0,$B11/$D11/4,0) -> 0 | G28: =IF(G64>0,$B11/$D11/4,0) -> 0 | H28: =IF(H64>0,$B11/$D11/4,0) -> 400 | I28: =IF(I64>0,$B11/$D11/4,0) -> 400 | K28: =IF(K64>0,$B11/$D11,0) -> 1600 | L28: =IF(L64>0,$B11/$D11,0) -> 1600 | M28: =IF(M64>0,$B11/$D11,0) -> 1600 | N28: =IF(N64>0,$B11/$D11,0) -> 1600 | Q28: =A27 -> High Cap. Testing Unit | R28: =SUM(B27:E27) -> 0 | S28: =SUM(F27:I27) -> 4583.3333 | T28: =K27 -> 9166.6667 | U28: =L27 -> 9166.6667 | V28: =M27 -> 9166.6667 | W28: =N27 -> 9166.6667
A29: =A47 -> Storage Racks | B29: =IF(B65>0,$B12/$D12/4,0) -> 0 | C29: =IF(C65>0,$B12/$D12/4,0) -> 0 | D29: =IF(D65>0,$B12/$D12/4,0) -> 0 | E29: =IF(E65>0,$B12/$D12/4,0) -> 0 | F29: =IF(F65>0,$B12/$D12/4,0) -> 0 | G29: =IF(G65>0,$B12/$D12/4,0) -> 0 | H29: =IF(H65>0,$B12/$D12/4,0) -> 0 | I29: =IF(I65>0,$B12/$D12/4,0) -> 0 | K29: =IF(K65>0,$B12/$D12,0) -> 600 | L29: =IF(L65>0,$B12/$D12,0) -> 600 | M29: =IF(M65>0,$B12/$D12,0) -> 600 | N29: =IF(N65>0,$B12/$D12,0) -> 600 | Q29: =A28 -> Office Furniture | R29: =SUM(B28:E28) -> 0 | S29: =SUM(F28:I28) -> 800 | T29: =K28 -> 1600 | U29: =L28 -> 1600 | V29: =M28 -> 1600 | W29: =N28 -> 1600
A30: =A48 -> New Lab Tools | B30: =IF(B66>0,$B13/$D13/4,0) -> 0 | C30: =IF(C66>0,$B13/$D13/4,0) -> 0 | D30: =IF(D66>0,$B13/$D13/4,0) -> 0 | E30: =IF(E66>0,$B13/$D13/4,0) -> 0 | F30: =IF(F66>0,$B13/$D13/4,0) -> 0 | G30: =IF(G66>0,$B13/$D13/4,0) -> 0 | H30: =IF(H66>0,$B13/$D13/4,0) -> 0 | I30: =IF(I66>0,$B13/$D13/4,0) -> 0 | K30: =IF(K66>0,$B13/$D13,0) -> 0 | L30: =IF(L66>0,$B13/$D13,0) -> 2142.8571 | M30: =IF(M66>0,$B13/$D13,0) -> 2142.8571 | N30: =IF(N66>0,$B13/$D13,0) -> 2142.8571 | Q30: =A29 -> Storage Racks | R30: =SUM(B29:E29) -> 0 | S30: =SUM(F29:I29) -> 0 | T30: =K29 -> 600 | U30: =L29 -> 600 | V30: =M29 -> 600 | W30: =N29 -> 600
A31: =A49 -> Company Vehicle | B31: =IF(B67>0,$B14/$D14/4,0) -> 0 | C31: =IF(C67>0,$B14/$D14/4,0) -> 0 | D31: =IF(D67>0,$B14/$D14/4,0) -> 0 | E31: =IF(E67>0,$B14/$D14/4,0) -> 0 | F31: =IF(F67>0,$B14/$D14/4,0) -> 0 | G31: =IF(G67>0,$B14/$D14/4,0) -> 0 | H31: =IF(H67>0,$B14/$D14/4,0) -> 0 | I31: =IF(I67>0,$B14/$D14/4,0) -> 0 | K31: =IF(K67>0,$B14/$D14,0) -> 0 | L31: =IF(L67>0,$B14/$D14,0) -> 0 | M31: =IF(M67>0,$B14/$D14,0) -> 0 | N31: =IF(N67>0,$B14/$D14,0) -> 9000 | Q31: =A30 -> New Lab Tools | R31: =SUM(B30:E30) -> 0 | S31: =SUM(F30:I30) -> 0 | T31: =K30 -> 0 | U31: =L30 -> 2142.8571 | V31: =M30 -> 2142.8571 | W31: =N30 -> 2142.8571
A32: =A50 -> Empty | B32: =IF(B68>0,$B15/$D15/4,0) -> 0 | C32: =IF(C68>0,$B15/$D15/4,0) -> 0 | D32: =IF(D68>0,$B15/$D15/4,0) -> 0 | E32: =IF(E68>0,$B15/$D15/4,0) -> 0 | F32: =IF(F68>0,$B15/$D15/4,0) -> 0 | G32: =IF(G68>0,$B15/$D15/4,0) -> 0 | H32: =IF(H68>0,$B15/$D15/4,0) -> 0 | I32: =IF(I68>0,$B15/$D15/4,0) -> 0 | K32: =IF(K68>0,$B15/$D15,0) -> 0 | L32: =IF(L68>0,$B15/$D15,0) -> 0 | M32: =IF(M68>0,$B15/$D15,0) -> 0 | N32: =IF(N68>0,$B15/$D15,0) -> 0 | Q32: =A31 -> Company Vehicle | R32: =SUM(B31:E31) -> 0 | S32: =SUM(F31:I31) -> 0 | T32: =K31 -> 0 | U32: =L31 -> 0 | V32: =M31 -> 0 | W32: =N31 -> 9000
A33: =A51 -> Empty | B33: =IF(B69>0,$B16/$D16/4,0) -> 0 | C33: =IF(C69>0,$B16/$D16/4,0) -> 0 | D33: =IF(D69>0,$B16/$D16/4,0) -> 0 | E33: =IF(E69>0,$B16/$D16/4,0) -> 0 | F33: =IF(F69>0,$B16/$D16/4,0) -> 0 | G33: =IF(G69>0,$B16/$D16/4,0) -> 0 | H33: =IF(H69>0,$B16/$D16/4,0) -> 0 | I33: =IF(I69>0,$B16/$D16/4,0) -> 0 | K33: =IF(K69>0,$B16/$D16,0) -> 0 | L33: =IF(L69>0,$B16/$D16,0) -> 0 | M33: =IF(M69>0,$B16/$D16,0) -> 0 | N33: =IF(N69>0,$B16/$D16,0) -> 0 | Q33: =A32 -> Empty | R33: =SUM(B32:E32) -> 0 | S33: =SUM(F32:I32) -> 0 | T33: =K32 -> 0 | U33: =L32 -> 0 | V33: =M32 -> 0 | W33: =N32 -> 0
A34: Total | B34: =SUM(B23:B33) -> 0 | C34: =SUM(C23:C33) -> 0 | D34: =SUM(D23:D33) -> 214.28571 | E34: =SUM(E23:E33) -> 1197.619 | F34: =SUM(F23:F33) -> 1197.619 | G34: =SUM(G23:G33) -> 2947.619 | H34: =SUM(H23:H33) -> 5639.2857 | I34: =SUM(I23:I33) -> 5639.2857 | K34: =SUM(K23:K33) -> 23157.143 | L34: =SUM(L23:L33) -> 25300 | M34: =SUM(M23:M33) -> 25300 | N34: =SUM(N23:N33) -> 34300 | R34: =SUM(R24:R33) -> 1411.9048 | S34: =SUM(S24:S33) -> 15423.81 | T34: =SUM(T24:T33) -> 23157.143 | U34: =SUM(U24:U33) -> 25300 | V34: =SUM(V24:V33) -> 25300 | W34: =SUM(W24:W33) -> 34300
A37: Capital Expenditure - Impact on Cash Flow | Q37: =A37 -> Capital Expenditure - Impact on Cash Flow
B38: Quarterly Cash Flow from CapEx (years 1 and 2) | K38: Annual Cash Flow from CapEx (years 3 to 6) | Q38: Full Forecast - Annual (6 years)
B39: Year 1 | F39: Year 2 | K39: Year 3 | L39: Year 4 | M39: Year 5 | N39: Year 6 | R39: Annual Projections
B40: =StartDate -> 43831 | C40: =EDATE(B40,3) -> 43922 | D40: =EDATE(C40,3) -> 44013 | E40: =EDATE(D40,3) -> 44105 | F40: =EDATE(E40,3) -> 44197 | G40: =EDATE(F40,3) -> 44287 | H40: =EDATE(G40,3) -> 44378 | I40: =EDATE(H40,3) -> 44470 | K40: =EDATE(I40,3) -> 44562 | L40: =EDATE(K40,12) -> 44927 | M40: =EDATE(L40,12) -> 45292 | N40: =EDATE(M40,12) -> 45658 | R40: Year 1 | S40: Year 2 | T40: Year 3 | U40: Year 4 | V40: Year 5 | W40: Year 6
A41: =A6 -> Lab Tools | B41: =IF(B$40=$C6,$B6,IF(B$40=EDATE($C6,12*$D6),$E6*-1,IF($C6>B$40,IF($C6<C$40,$B6,0),IF(EDATE($C6,12*$D6)>C$40,0,IF(EDATE($C6,12*$D6)>B$40,IF(EDATE($C6,12*$D6)<C$40,$E6*-1,0),0))))) -> 0 | C41: =IF(C$40=$C6,$B6,IF(C$40=EDATE($C6,12*$D6),$E6*-1,IF($C6>C$40,IF($C6<D$40,$B6,0),IF(EDATE($C6,12*$D6)>D$40,0,IF(EDATE($C6,12*$D6)>C$40,IF(EDATE($C6,12*$D6)<D$40,$E6*-1,0),0))))) -> 0 | D41: =IF(D$40=$C6,$B6,IF(D$40=EDATE($C6,12*$D6),$E6*-1,IF($C6>D$40,IF($C6<E$40,$B6,0),IF(EDATE($C6,12*$D6)>E$40,0,IF(EDATE($C6,12*$D6)>D$40,IF(EDATE($C6,12*$D6)<E$40,$E6*-1,0),0))))) -> 6000 | E41: =IF(E$40=$C6,$B6,IF(E$40=EDATE($C6,12*$D6),$E6*-1,IF($C6>E$40,IF($C6<F$40,$B6,0),IF(EDATE($C6,12*$D6)>F$40,0,IF(EDATE($C6,12*$D6)>E$40,IF(EDATE($C6,12*$D6)<F$40,$E6*-1,0),0))))) -> 0 | F41: =IF(F$40=$C6,$B6,IF(F$40=EDATE($C6,12*$D6),$E6*-1,IF($C6>F$40,IF($C6<G$40,$B6,0),IF(EDATE($C6,12*$D6)>G$40,0,IF(EDATE($C6,12*$D6)>F$40,IF(EDATE($C6,12*$D6)<G$40,$E6*-1,0),0))))) -> 0 | G41: =IF(G$40=$C6,$B6,IF(G$40=EDATE($C6,12*$D6),$E6*-1,IF($C6>G$40,IF($C6<H$40,$B6,0),IF(EDATE($C6,12*$D6)>H$40,0,IF(EDATE($C6,12*$D6)>G$40,IF(EDATE($C6,12*$D6)<H$40,$E6*-1,0),0))))) -> 0 | H41: =IF(H$40=$C6,$B6,IF(H$40=EDATE($C6,12*$D6),$E6*-1,IF($C6>H$40,IF($C6<I$40,$B6,0),IF(EDATE($C6,12*$D6)>I$40,0,IF(EDATE($C6,12*$D6)>H$40,IF(EDATE($C6,12*$D6)<I$40,$E6*-1,0),0))))) -> 0 | I41: =IF(I$40=$C6,$B6,IF(I$40=EDATE($C6,12*$D6),$E6*-1,IF($C6>I$40,IF($C6<K$40,$B6,0),IF(EDATE($C6,12*$D6)>K$40,0,IF(EDATE($C6,12*$D6)>I$40,IF(EDATE($C6,12*$D6)<K$40,$E6*-1,0),0))))) -> 0 | K41: =IF(K$40=$C6,$B6,IF(K$40=EDATE($C6,12*$D6),$E6*-1,IF($C6>K$40,IF($C6<L$40,$B6,0),IF(EDATE($C6,12*$D6)>L$40,0,IF(EDATE($C6,12*$D6)>K$40,IF(EDATE($C6,12*$D6)<L$40,$E6*-1,0),0))))) -> 0 | L41: =IF(L$40=$C6,$B6,IF(L$40=EDATE($C6,12*$D6),$E6*-1,IF($C6>L$40,IF($C6<M$40,$B6,0),IF(EDATE($C6,12*$D6)>M$40,0,IF(EDATE($C6,12*$D6)>L$40,IF(EDATE($C6,12*$D6)<M$40,$E6*-1,0),0))))) -> 0 | M41: =IF(M$40=$C6,$B6,IF(M$40=EDATE($C6,12*$D6),$E6*-1,IF($C6>M$40,IF($C6<N$40,$B6,0),IF(EDATE($C6,12*$D6)>N$40,0,IF(EDATE($C6,12*$D6)>M$40,IF(EDATE($C6,12*$D6)<N$40,$E6*-1,0),0))))) -> 0 | N41: =IF(N$40=$C6,$B6,IF(N$40=EDATE($C6,12*$D6),$E6*-1,IF($C6>N$40,IF($C6<EDATE(N$40,12),$B6,0),IF(EDATE($C6,12*$D6)>EDATE(N$40,12),0,IF(EDATE($C6,12*$D6)>N$40,IF(EDATE($C6,12*$D6)<EDATE(N$40,12),$E6*-1,0),0))))) -> 0 | R41: =B40 -> 43831 | S41: =F40 -> 44197 | T41: =K40 -> 44562 | U41: =L40 -> 44927 | V41: =M40 -> 45292 | W41: =N40 -> 45658
A42: =A7 -> Product Testing Unit | B42: =IF(B$40=$C7,$B7,IF(B$40=EDATE($C7,12*$D7),$E7*-1,IF($C7>B$40,IF($C7<C$40,$B7,0),IF(EDATE($C7,12*$D7)>C$40,0,IF(EDATE($C7,12*$D7)>B$40,IF(EDATE($C7,12*$D7)<C$40,$E7*-1,0),0))))) -> 0 | C42: =IF(C$40=$C7,$B7,IF(C$40=EDATE($C7,12*$D7),$E7*-1,IF($C7>C$40,IF($C7<D$40,$B7,0),IF(EDATE($C7,12*$D7)>D$40,0,IF(EDATE($C7,12*$D7)>C$40,IF(EDATE($C7,12*$D7)<D$40,$E7*-1,0),0))))) -> 0 | D42: =IF(D$40=$C7,$B7,IF(D$40=EDATE($C7,12*$D7),$E7*-1,IF($C7>D$40,IF($C7<E$40,$B7,0),IF(EDATE($C7,12*$D7)>E$40,0,IF(EDATE($C7,12*$D7)>D$40,IF(EDATE($C7,12*$D7)<E$40,$E7*-1,0),0))))) -> 0 | E42: =IF(E$40=$C7,$B7,IF(E$40=EDATE($C7,12*$D7),$E7*-1,IF($C7>E$40,IF($C7<F$40,$B7,0),IF(EDATE($C7,12*$D7)>F$40,0,IF(EDATE($C7,12*$D7)>E$40,IF(EDATE($C7,12*$D7)<F$40,$E7*-1,0),0))))) -> 20000 | F42: =IF(F$40=$C7,$B7,IF(F$40=EDATE($C7,12*$D7),$E7*-1,IF($C7>F$40,IF($C7<G$40,$B7,0),IF(EDATE($C7,12*$D7)>G$40,0,IF(EDATE($C7,12*$D7)>F$40,IF(EDATE($C7,12*$D7)<G$40,$E7*-1,0),0))))) -> 0 | G42: =IF(G$40=$C7,$B7,IF(G$40=EDATE($C7,12*$D7),$E7*-1,IF($C7>G$40,IF($C7<H$40,$B7,0),IF(EDATE($C7,12*$D7)>H$40,0,IF(EDATE($C7,12*$D7)>G$40,IF(EDATE($C7,12*$D7)<H$40,$E7*-1,0),0))))) -> 0 | H42: =IF(H$40=$C7,$B7,IF(H$40=EDATE($C7,12*$D7),$E7*-1,IF($C7>H$40,IF($C7<I$40,$B7,0),IF(EDATE($C7,12*$D7)>I$40,0,IF(EDATE($C7,12*$D7)>H$40,IF(EDATE($C7,12*$D7)<I$40,$E7*-1,0),0))))) -> 0 | I42: =IF(I$40=$C7,$B7,IF(I$40=EDATE($C7,12*$D7),$E7*-1,IF($C7>I$40,IF($C7<K$40,$B7,0),IF(EDATE($C7,12*$D7)>K$40,0,IF(EDATE($C7,12*$D7)>I$40,IF(EDATE($C7,12*$D7)<K$40,$E7*-1,0),0))))) -> 0 | K42: =IF(K$40=$C7,$B7,IF(K$40=EDATE($C7,12*$D7),$E7*-1,IF($C7>K$40,IF($C7<L$40,$B7,0),IF(EDATE($C7,12*$D7)>L$40,0,IF(EDATE($C7,12*$D7)>K$40,IF(EDATE($C7,12*$D7)<L$40,$E7*-1,0),0))))) -> 0 | L42: =IF(L$40=$C7,$B7,IF(L$40=EDATE($C7,12*$D7),$E7*-1,IF($C7>L$40,IF($C7<M$40,$B7,0),IF(EDATE($C7,12*$D7)>M$40,0,IF(EDATE($C7,12*$D7)>L$40,IF(EDATE($C7,12*$D7)<M$40,$E7*-1,0),0))))) -> 0 | M42: =IF(M$40=$C7,$B7,IF(M$40=EDATE($C7,12*$D7),$E7*-1,IF($C7>M$40,IF($C7<N$40,$B7,0),IF(EDATE($C7,12*$D7)>N$40,0,IF(EDATE($C7,12*$D7)>M$40,IF(EDATE($C7,12*$D7)<N$40,$E7*-1,0),0))))) -> 0 | N42: =IF(N$40=$C7,$B7,IF(N$40=EDATE($C7,12*$D7),$E7*-1,IF($C7>N$40,IF($C7<EDATE(N$40,12),$B7,0),IF(EDATE($C7,12*$D7)>EDATE(N$40,12),0,IF(EDATE($C7,12*$D7)>N$40,IF(EDATE($C7,12*$D7)<EDATE(N$40,12),$E7*-1,0),0))))) -> 0 | Q42: =A41 -> Lab Tools | R42: =SUM(B41:E41) -> 6000 | S42: =SUM(F41:I41) -> 0 | T42: =K41 -> 0 | U42: =L41 -> 0 | V42: =M41 -> 0 | W42: =N41 -> 0
A43: =A8 -> Office Furniture | B43: =IF(B$40=$C8,$B8,IF(B$40=EDATE($C8,12*$D8),$E8*-1,IF($C8>B$40,IF($C8<C$40,$B8,0),IF(EDATE($C8,12*$D8)>C$40,0,IF(EDATE($C8,12*$D8)>B$40,IF(EDATE($C8,12*$D8)<C$40,$E8*-1,0),0))))) -> 0 | C43: =IF(C$40=$C8,$B8,IF(C$40=EDATE($C8,12*$D8),$E8*-1,IF($C8>C$40,IF($C8<D$40,$B8,0),IF(EDATE($C8,12*$D8)>D$40,0,IF(EDATE($C8,12*$D8)>C$40,IF(EDATE($C8,12*$D8)<D$40,$E8*-1,0),0))))) -> 0 | D43: =IF(D$40=$C8,$B8,IF(D$40=EDATE($C8,12*$D8),$E8*-1,IF($C8>D$40,IF($C8<E$40,$B8,0),IF(EDATE($C8,12*$D8)>E$40,0,IF(EDATE($C8,12*$D8)>D$40,IF(EDATE($C8,12*$D8)<E$40,$E8*-1,0),0))))) -> 0 | E43: =IF(E$40=$C8,$B8,IF(E$40=EDATE($C8,12*$D8),$E8*-1,IF($C8>E$40,IF($C8<F$40,$B8,0),IF(EDATE($C8,12*$D8)>F$40,0,IF(EDATE($C8,12*$D8)>E$40,IF(EDATE($C8,12*$D8)<F$40,$E8*-1,0),0))))) -> 3000 | F43: =IF(F$40=$C8,$B8,IF(F$40=EDATE($C8,12*$D8),$E8*-1,IF($C8>F$40,IF($C8<G$40,$B8,0),IF(EDATE($C8,12*$D8)>G$40,0,IF(EDATE($C8,12*$D8)>F$40,IF(EDATE($C8,12*$D8)<G$40,$E8*-1,0),0))))) -> 0 | G43: =IF(G$40=$C8,$B8,IF(G$40=EDATE($C8,12*$D8),$E8*-1,IF($C8>G$40,IF($C8<H$40,$B8,0),IF(EDATE($C8,12*$D8)>H$40,0,IF(EDATE($C8,12*$D8)>G$40,IF(EDATE($C8,12*$D8)<H$40,$E8*-1,0),0))))) -> 0 | H43: =IF(H$40=$C8,$B8,IF(H$40=EDATE($C8,12*$D8),$E8*-1,IF($C8>H$40,IF($C8<I$40,$B8,0),IF(EDATE($C8,12*$D8)>I$40,0,IF(EDATE($C8,12*$D8)>H$40,IF(EDATE($C8,12*$D8)<I$40,$E8*-1,0),0))))) -> 0 | I43: =IF(I$40=$C8,$B8,IF(I$40=EDATE($C8,12*$D8),$E8*-1,IF($C8>I$40,IF($C8<K$40,$B8,0),IF(EDATE($C8,12*$D8)>K$40,0,IF(EDATE($C8,12*$D8)>I$40,IF(EDATE($C8,12*$D8)<K$40,$E8*-1,0),0))))) -> 0 | K43: =IF(K$40=$C8,$B8,IF(K$40=EDATE($C8,12*$D8),$E8*-1,IF($C8>K$40,IF($C8<L$40,$B8,0),IF(EDATE($C8,12*$D8)>L$40,0,IF(EDATE($C8,12*$D8)>K$40,IF(EDATE($C8,12*$D8)<L$40,$E8*-1,0),0))))) -> 0 | L43: =IF(L$40=$C8,$B8,IF(L$40=EDATE($C8,12*$D8),$E8*-1,IF($C8>L$40,IF($C8<M$40,$B8,0),IF(EDATE($C8,12*$D8)>M$40,0,IF(EDATE($C8,12*$D8)>L$40,IF(EDATE($C8,12*$D8)<M$40,$E8*-1,0),0))))) -> 0 | M43: =IF(M$40=$C8,$B8,IF(M$40=EDATE($C8,12*$D8),$E8*-1,IF($C8>M$40,IF($C8<N$40,$B8,0),IF(EDATE($C8,12*$D8)>N$40,0,IF(EDATE($C8,12*$D8)>M$40,IF(EDATE($C8,12*$D8)<N$40,$E8*-1,0),0))))) -> 0 | N43: =IF(N$40=$C8,$B8,IF(N$40=EDATE($C8,12*$D8),$E8*-1,IF($C8>N$40,IF($C8<EDATE(N$40,12),$B8,0),IF(EDATE($C8,12*$D8)>EDATE(N$40,12),0,IF(EDATE($C8,12*$D8)>N$40,IF(EDATE($C8,12*$D8)<EDATE(N$40,12),$E8*-1,0),0))))) -> 0 | Q43: =A42 -> Product Testing Unit | R43: =SUM(B42:E42) -> 20000 | S43: =SUM(F42:I42) -> 0 | T43: =K42 -> 0 | U43: =L42 -> 0 | V43: =M42 -> 0 | W43: =N42 -> 0
